BEGIN:VCALENDAR
VERSION:2.0
PRODID:-//Fondazione Sandretto Re Rebaudengo - ECPv6.8.1//NONSGML v1.0//EN
CALSCALE:GREGORIAN
METHOD:PUBLISH
X-WR-CALNAME:Fondazione Sandretto Re Rebaudengo
X-ORIGINAL-URL:https://fsrr.org
X-WR-CALDESC:Events for Fondazione Sandretto Re Rebaudengo
REFRESH-INTERVAL;VALUE=DURATION:PT1H
X-Robots-Tag:noindex
X-PUBLISHED-TTL:PT1H
BEGIN:VTIMEZONE
TZID:Europe/Helsinki
BEGIN:DAYLIGHT
TZOFFSETFROM:+0200
TZOFFSETTO:+0300
TZNAME:EEST
DTSTART:20260329T010000
END:DAYLIGHT
BEGIN:STANDARD
TZOFFSETFROM:+0300
TZOFFSETTO:+0200
TZNAME:EET
DTSTART:20261025T010000
END:STANDARD
END:VTIMEZONE
BEGIN:VEVENT
DTSTART;TZID=Europe/Helsinki:20260305T200000
DTEND;TZID=Europe/Helsinki:20260305T220000
DTSTAMP:20260419T212010
CREATED:20260220T102819Z
LAST-MODIFIED:20260220T102849Z
UID:49106-1772740800-1772748000@fsrr.org
SUMMARY:Myself is a compilation
DESCRIPTION:Myself is a compilation è un workshop ideato e condotto da Giulia Deval con il Dipartimento Educativo della Fondazione Sandretto Re Rebaudengo\, dedicato a un gruppo di studentə dell’Accademia Albertina di Torino e realizzato nell'ambito di Accademia della Luce\, il public program di Luci d'Artista.\nLa pratica traccia un percorso tra il neon Sex and Solitude di Tracey Emin\, installato nei Giardini Reali in occasione di Luci d’Artista e una selezione di opere della mostra News from the Near Future. 30 anni della Fondazione Sandretto Re Rebaudengo\,quelle delle artiste Tracey Emin\, Sarah Lucas\, Rosemarie Trockel\, Senga Nengudi\, Paulina Olowska e Berlinde De Bruyckere. \nA partire dalle parole delle stesse artiste - raccolte in interviste scritte e orali\, racconti e diari - l’attività ha riflettuto sulla costruzione del sé come atto rapsodico di molteplicità incontenibili tra autofiction\, scrittura poetica e ricerca della propria - o delle proprie - voci. \nGiovedì 5 marzo\, dalle 20 alle 22\, è previsto un momento di condivisone e restituzione del percorso fatto\, aperto alla partecipazione dei pubblici. \nPer informazioni: 011-3797631\, dip.educativo@fsrr.org 
URL:https://fsrr.org/evento/myself-is-a-compilation/
LOCATION:Fondazione Sandretto Re Rebaudengo\, Via Modane 16\, Torino
ATTACH;FMTTYPE=image/png:https://fsrr.org/wp-content/uploads/1000045251.png
END:VEVENT
BEGIN:VEVENT
DTSTART;TZID=Europe/Helsinki:20260308T163000
DTEND;TZID=Europe/Helsinki:20260308T183000
DTSTAMP:20260419T212010
CREATED:20260220T152650Z
LAST-MODIFIED:20260302T121240Z
UID:49111-1772987400-1772994600@fsrr.org
SUMMARY:A modo mio\, a modo tuo! Laboratorio per famiglie con Marina Cuollo
DESCRIPTION:8 marzo\, ore 16.30 \nLaboratorio di gioco e disegno con Marina Cuollo\, scrittrice e attivista\, a partire dal suo libro  La disabilità spiegata ai bambini e alle bambine – Edizioni Beccogiallo. Costruiremo e useremo insieme un gioco\, in cui cercare soluzioni brillanti ai problemi della vita di tutti i giorni...Adatto a bambine e bambini dai 6 ai 12 anni e a persone adulte di tutte le età.  \n \nQuesto incontro fa parte del progetto Dire\, Fare\, Museo! Incontri d’arte per una Comunità Creativa\, nell'ambito di ComunitAttiva 2.0\, un programma socioeducativo finanziato da Fondazione Compagnia di San Paolo\, di cui è capofila la Fondazione Gruppo Abele. \nTutti i laboratori proposti nel percorso Dire\, Fare\, Museo! Incontri d’arte per una Comunità Creativa coinvolgono persone disabili come esperte\, per formare i più giovani\, e non solo\, a una società plurale e accogliente\, dove stare bene insieme\, ognuna e ognuno nel suo modo. \nGli incontri sono gratuiti e prevedono una merenda per chi partecipa. L’iscrizione è obbligatoria. \nPer informazioni e iscrizioni: dip.educativo@fsrr.org oppure 011 3797631. Il sabato e la domenica\, dalle 12.00 alle 19.00\, 011-3797624. \n  \n(nell'immagine\, un'illustrazione di Cristina Trapanese\, per il libro  La disabilità spiegata ai bambini e alle bambine – Edizioni Beccogiallo) \n  \n 
URL:https://fsrr.org/evento/a-modo-mio-a-modo-tuo/
ATTACH;FMTTYPE=image/jpeg:https://fsrr.org/wp-content/uploads/disabilita_4a-e1772108915391.jpg
END:VEVENT
END:VCALENDAR