BEGIN:VCALENDAR
VERSION:2.0
PRODID:-//Fondazione Sandretto Re Rebaudengo - ECPv6.8.1//NONSGML v1.0//EN
CALSCALE:GREGORIAN
METHOD:PUBLISH
X-ORIGINAL-URL:https://fsrr.org
X-WR-CALDESC:Events for Fondazione Sandretto Re Rebaudengo
REFRESH-INTERVAL;VALUE=DURATION:PT1H
X-Robots-Tag:noindex
X-PUBLISHED-TTL:PT1H
BEGIN:VTIMEZONE
TZID:Europe/Helsinki
BEGIN:DAYLIGHT
TZOFFSETFROM:+0200
TZOFFSETTO:+0300
TZNAME:EEST
DTSTART:20260329T010000
END:DAYLIGHT
BEGIN:STANDARD
TZOFFSETFROM:+0300
TZOFFSETTO:+0200
TZNAME:EET
DTSTART:20261025T010000
END:STANDARD
END:VTIMEZONE
BEGIN:VEVENT
DTSTART;TZID=Europe/Helsinki:20260118T163000
DTEND;TZID=Europe/Helsinki:20260118T183000
DTSTAMP:20260420T004108
CREATED:20260108T110030Z
LAST-MODIFIED:20260108T110536Z
UID:47751-1768753800-1768761000@fsrr.org
SUMMARY:DI TUTTE LE COSE VISIBILI E INVISIBILI. Pratiche di vicinanza per mani\, sguardi e altre cose segrete
DESCRIPTION:Il laboratorio\, condotto da Francesca Cola\, è aperto a tutta la famiglia e si muove tra le opere esposte\, usandole come tracce per esercizi di prossimità.  Useremo le mani per riconoscere la pelle come un luogo di contatto. Praticheremo lo sguardo per stare di fronte all'altro e alle opere con pazienza\, senza la fretta di spiegare.  Cercheremo di misurare lo spazio che ci separa e quello che ci unisce\, dando attenzione ai gesti minimi: il silenzio di un segreto condiviso\, il passaggio tra luce e buio. È un tempo dedicato alla semplicità di essere presenti\, qui\, l'uno per l'altro.  \nInformazioni: Adatto a bambinə dai 5 anni e a persone adulte di tutte le età. La partecipazione è gratuita fino a esaurimento posti. Per prenotare dal lunedì al venerdì\, dalle 10.00 alle 18.00 telefonare a 011-3797631 o scrivere a dip.educativo@fsrr.org\, mentre il sabato e la domenica\, dalle 12.00 alle 19.00 sono attivi il numero 011-3797624 e la mail biglietteria@fsrr.org. Il laboratorio è parte di ComunitAttiva 2.0\, un programma socioeducativo finanziato da Fondazione Compagnia di San Paolo\, di cui è capofila la Fondazione Gruppo Abele Onlus.   
URL:https://fsrr.org/evento/di-tutte-le-cose-visibili-e-invisibili-pratiche-di-vicinanza-per-mani-sguardi-e-altre-cose-segrete/
ATTACH;FMTTYPE=image/jpeg:https://fsrr.org/wp-content/uploads/1000040478.jpg
END:VEVENT
BEGIN:VEVENT
DTSTART;TZID=Europe/Helsinki:20260121T180000
DTEND;TZID=Europe/Helsinki:20260121T200000
DTSTAMP:20260420T004108
CREATED:20260108T112738Z
LAST-MODIFIED:20260116T114834Z
UID:47754-1769018400-1769025600@fsrr.org
SUMMARY:OccuBAUsandretto
DESCRIPTION:OccuBAUsandretto21 gennaio 2026\, dalle 18 alle 20Fondazione Sandretto Re Rebaudengo \nPOSTI QUASI ESAURITI (ORGANIZZEREMO ALTRE GIORNATE DEDICATE ESCLUSIVAMENTE ALLE PERSONE CON CANE) \n\nLa Fondazione Sandretto Re Rebaudengo\, in collaborazione con SABAUDOG Torino\, presenta il 21 gennaio\, dalle 18 alle 20\, OccuBAUsandretto\, un format innovativo pensato per offrire a persone e cani un’esperienza museale condivisa. L’evento è realizzato con la partecipazione di Morando Petfood e la media partnership di La Zampa\, l’hub dedicato al mondo degli animali per La Stampa e Repubblica dove quotidianamente vengono raccontate storie e notizie\, e promosse le adozioni nei canili e gattili nella sezione “Videoadozioni”. \n\nDa sempre la Fondazione accoglie i cani nei propri spazi. Con OccuBAUsandretto\, per la prima volta un museo permette la visita nelle proprie sale solo ed esclusivamente alle persone con cane\, offrendo un percorso nella mostra News from the near Future. La visita è pensata per garantire rispetto e attenzione al benessere dell'animale. \nOccupySandretto è l’hashtag con cui la Fondazione Sandretto Re Rebaudengo invita il pubblico a visitare\, vivere e “occupare” i propri spazi come luoghi aperti\, condivisi e accessibili alla comunità. Per una giornata\, questo invito si trasforma e diventa OccuBAUsandretto.\nAttraverso questo progetto\, la Fondazione Sandretto Re Rebaudengo rinnova il proprio impegno verso pratiche innovative di accesso all’arte e agli spazi espositivi\, promuovendo una cultura dell’accoglienza senza barriere e valorizzando la relazione tra persone e animali.\nLa supervisione dell’evento è affidata agli esperti di SABAUDOG\, l’asilo nel bosco in centro città. SABAUDOG guiderà i partecipanti verso una corretta gestione del cane anche in ambienti chiusi e in contesti nuovi all’accesso dei compagni a quattro zampe.\nL’evento è organizzato in gruppi di visita scaglionati\, al fine di garantire tranquillità e sicurezza. Durante le fasi di accoglienza e nel corso delle visite alla mostra\, i tutor di SABAUDOG svolgeranno attività mirate per favorire l’armonia del gruppo e monitorare il benessere degli animali.\nAttraverso brevi momenti di education\, i proprietari riceveranno consigli pratici per gestire al meglio ogni situazione\, contribuendo a rendere l’esperienza piacevole e serena sia per l’umano che per il proprio compagno a quattro zampe. La Fondazione Sandretto Re Rebaudengo\, SABAUDOG e Morando Petfood auspicano che iniziative come OccuBAUsandretto possano tracciare una strada condivisa affinché\, attraverso una cultura del rispetto e della competenza\, sempre più spazi culturali e cittadini diventino realmente accessibili agli amici a quattro zampe.\nAl termine della visita\, i partecipanti riceveranno uno scatto del progetto Connessioni di Giulia Lentini\, realizzato in collaborazione con SABAUDOG: un ritratto in cui il cane è protagonista assoluto e la presenza del padrone affiora solo attraverso gesti e dettagli\, restituendo l’intimità di un legame unico. Morando\, Azienda Pioniera del Petfood in Italia e partner dell’iniziativa\, omaggerà tutti partecipanti con un Welcome Kit. \n\nPer partecipare è necessario iscriversi inviando una mail a rsvp@fsrr.org\, indicando nell’oggetto OccuBAUsandretto e specificando sesso e razza del cane. La partecipazione è gratuita. Posti limitati
URL:https://fsrr.org/evento/occubausandretto/
ATTACH;FMTTYPE=image/jpeg:https://fsrr.org/wp-content/uploads/FSRR25-evento-045-scaled.jpg
END:VEVENT
END:VCALENDAR