BEGIN:VCALENDAR
VERSION:2.0
PRODID:-//Fondazione Sandretto Re Rebaudengo - ECPv6.8.1//NONSGML v1.0//EN
CALSCALE:GREGORIAN
METHOD:PUBLISH
X-ORIGINAL-URL:https://fsrr.org
X-WR-CALDESC:Events for Fondazione Sandretto Re Rebaudengo
REFRESH-INTERVAL;VALUE=DURATION:PT1H
X-Robots-Tag:noindex
X-PUBLISHED-TTL:PT1H
BEGIN:VTIMEZONE
TZID:Europe/Helsinki
BEGIN:DAYLIGHT
TZOFFSETFROM:+0200
TZOFFSETTO:+0300
TZNAME:EEST
DTSTART:20250330T010000
END:DAYLIGHT
BEGIN:STANDARD
TZOFFSETFROM:+0300
TZOFFSETTO:+0200
TZNAME:EET
DTSTART:20251026T010000
END:STANDARD
END:VTIMEZONE
BEGIN:VEVENT
DTSTART;TZID=Europe/Helsinki:20251002T183000
DTEND;TZID=Europe/Helsinki:20251002T200000
DTSTAMP:20260420T053617
CREATED:20250911T154633Z
LAST-MODIFIED:20250911T154820Z
UID:47197-1759429800-1759435200@fsrr.org
SUMMARY:Visita con esperienze tattili
DESCRIPTION:2 ottobre ore 18.30  \nLe mostre I Saw a Dark Cloud Rise\, di Alessandra Ferrini\, Bird Dream Machine\, di Teresa Solar Abboud e Evenfall\, di Jem Perucchini si aprono all’esplorazione tattile in occasione di una speciale visita.  L’incontro è gratuito e aperto a tuttə\, ed è facilitato per pubblico con disabilità visiva grazie alle tavole tattili realizzate da Tactile Vision Lab. Le persone vedenti possono partecipare anche bendate o accompagnando una persona che non vede.    \nPrenotazione obbligatoria a: accessibilita@fsrr.org oppure 0113797631. Il sabato e la domenica\, dalle 12.00 alle 19.00\, 0113797624. 
URL:https://fsrr.org/evento/visita-con-esperienze-tattili-5/
ATTACH;FMTTYPE=image/jpeg:https://fsrr.org/wp-content/uploads/mani-solar.jpeg
END:VEVENT
BEGIN:VEVENT
DTSTART;TZID=Europe/Helsinki:20251012T120000
DTEND;TZID=Europe/Helsinki:20251012T140000
DTSTAMP:20260420T053617
CREATED:20251009T112637Z
LAST-MODIFIED:20251009T150406Z
UID:47279-1760270400-1760277600@fsrr.org
SUMMARY:FLASH MOB “COME UNA VERDE MILONGA”
DESCRIPTION:12 ottobreOre 12 \nUna pratica di milonga libera\, aperta a tutti i corpi e a tutte le capacità\, con cambi di ruolo tra chi segue e chi conduce\, in cui sperimentare il ballo in carrozzina e il ballo a occhi chiusi\, insieme a danzator3 espert3.  \nEvento nell'ambito del Festival BallaTorino\, coordinato da Emanuele Enria\, in collaborazione con la Milonga della Polisportiva dell'Unione Italiana Ciechi e Ipovedenti di Torino e la compagnia di danza integrata RE-ACTION. \nPet informazioni https://ballatorino.it/programma/ oppure via mail a accessibilita@fsrr.org. 
URL:https://fsrr.org/evento/flash-mob-come-una-verde-milonga/
ATTACH;FMTTYPE=image/jpeg:https://fsrr.org/wp-content/uploads/Banner-nuova-edizione-1536x800-1.jpg
END:VEVENT
BEGIN:VEVENT
DTSTART;TZID=Europe/Helsinki:20251028T183000
DTEND;TZID=Europe/Helsinki:20251028T203000
DTSTAMP:20260420T053617
CREATED:20251010T121623Z
LAST-MODIFIED:20251010T121623Z
UID:47297-1761676200-1761683400@fsrr.org
SUMMARY:Inaugurazione di News from the near future. 30 anni della Fondazione Sandretto Re Rebaudengo
DESCRIPTION:News from the near future. 30 anni della Fondazione Sandretto Re Rebaudengo \nInaugurazione28 ottobre 2025\, ore 18.30\, Fondazione Sandretto Re Rebaudengo29 ottobre\, ore 18.30\, Museo Nazionale dell'Automobile \nIn occasione del suo trentesimo anniversario\, la Fondazione Sandretto Re Rebaudengo presenta News from the Near Future che celebra trent’anni di arte\, ricerca e visione. \nAllestita in due sedi — la Fondazione e il Museo Nazionale dell’Automobile — la mostra riunisce oltre cento opere provenienti dalla Collezione Sandretto Re Rebaudengo\, firmate da artiste e artisti come Doug Aitken\, Maurizio Cattelan\, Steve McQueen\, Cindy Sherman\, Wolfgang Tillmans\, Urs Fischer\, Berlinde De Bruyckere\, Paulina Olowska\, Glenn Brown e molti altri. \nUn viaggio non cronologico ma emotivo e concettuale\, che intreccia trent’anni di storia espositiva e riflette sulle sfide del presente e le visioni del futuro.
URL:https://fsrr.org/evento/inaugurazione-di-news-from-the-near-future-30-anni-della-fondazione-sandretto-re-rebaudengo/
ATTACH;FMTTYPE=image/jpeg:https://fsrr.org/wp-content/uploads/Immagine-2025-10-10-141457.jpg
END:VEVENT
END:VCALENDAR