BEGIN:VCALENDAR
VERSION:2.0
PRODID:-//Fondazione Sandretto Re Rebaudengo - ECPv6.8.1//NONSGML v1.0//EN
CALSCALE:GREGORIAN
METHOD:PUBLISH
X-WR-CALNAME:Fondazione Sandretto Re Rebaudengo
X-ORIGINAL-URL:https://fsrr.org
X-WR-CALDESC:Events for Fondazione Sandretto Re Rebaudengo
REFRESH-INTERVAL;VALUE=DURATION:PT1H
X-Robots-Tag:noindex
X-PUBLISHED-TTL:PT1H
BEGIN:VTIMEZONE
TZID:Europe/Helsinki
BEGIN:DAYLIGHT
TZOFFSETFROM:+0200
TZOFFSETTO:+0300
TZNAME:EEST
DTSTART:20250330T010000
END:DAYLIGHT
BEGIN:STANDARD
TZOFFSETFROM:+0300
TZOFFSETTO:+0200
TZNAME:EET
DTSTART:20251026T010000
END:STANDARD
END:VTIMEZONE
BEGIN:VEVENT
DTSTART;VALUE=DATE:20250508
DTEND;VALUE=DATE:20250510
DTSTAMP:20260424T121942
CREATED:20250320T090904Z
LAST-MODIFIED:20250508T103509Z
UID:46293-1746705600-1746791999@fsrr.org
SUMMARY:PICCOLI CORPI BLU. PRATICHE DI MOVIMENTO E AZIONE COLLETTIVA INTORNO A PICCOLI SPIRITI BLU DI REBECCA HORN
DESCRIPTION:L'incontro si tiene un Fondazione Sandretto Re Rebaudengo \nL'8 maggio alle 18 si tiene l'ultimo incontro di Piccoli Corpi Blu\, percorso di arte e Feldenkrais condotto da Emanuele Enria.Questa volta incontreremo finalmente Piccoli Spiriti Blu\, l'opera che Rebecca Horn ha realizzato per la città di Torino. Qui il nostro sguardo andrà a cercare ispirazione in alto\, nel cielo sopra le nostre teste. \nLa programmazione di quest'anno si concluderà il 12 maggio con la Giornata di Studi dedicata a tutti progetti educativi legati a Accademia della Luce\, in Accademia Albertina delle Belle Arti di Torino. \nGli incontri sono gratuiti e aperti a tutte le persone interessate alla pratica Feldenkrais e ai temi proposti\, e saranno facilitati per persone con disabilità visiva. L'iscrizione è obbligatoria. Per informazioni e iscrizioni: t. 011-3797631  |  dip.educativo@fsrr.org https://fsrr.org/dip-educativi/pubblico-adulto/ https://www.lucidartistatorino.org/accademia-della-luce/2024-2025/Questi incontri sono parte di Accademia della Luce\, il Public Program di Luci d’Artista. \nSegnaliamo inoltre al Castello di Rivoli Museo d’Arte Contemporanea\, Rivoli-Torino la mostra Rebecca Horn – Cutting Through the Past\, dal 22 maggio al 21 settembre 2025\, a cura di Marcella Beccaria. La mostra è in collaborazione tra Haus der Kunst\, Monaco di Baviera e Castello di Rivoli Museo d’Arte Contemporanea\, Rivoli-Torino. \n 
URL:https://fsrr.org/evento/piccoli-corpi-blu-pratiche-di-movimento-e-azione-collettiva-intorno-a-piccoli-spiriti-blu-di-rebecca-horn-3/
ATTACH;FMTTYPE=image/jpeg:https://fsrr.org/wp-content/uploads/5-Piccoli-spiriti-blu-di-Rebecca-HORN-al-Monte-dei-Cappuccini-1.jpg
END:VEVENT
BEGIN:VEVENT
DTSTART;TZID=Europe/Helsinki:20250511T160000
DTEND;TZID=Europe/Helsinki:20250511T170000
DTSTAMP:20260424T121942
CREATED:20250507T113319Z
LAST-MODIFIED:20250507T113319Z
UID:46533-1746979200-1746982800@fsrr.org
SUMMARY:LET’S TALK: PERCORSI DI VISITA IN MOSTRA
DESCRIPTION:Domenica 11 maggio\, dalle 16.00 alle 17.30\n \nLe mediatrici culturali dell’arte della Fondazione propongono una serie di appuntamenti pensati per piccoli gruppi di visitatorə\, in cui è possibile visitare insieme le mostre in corso e approfondire i temi delle opere e la ricerca dellə artistə\, condividendo un’esperienza caratterizzata dal consueto approccio della mediazione culturale dell’arte.    \n \nPer circa un’ora e mezza lə partecipanti possono abitare in modo informale lo spazio espositivo\, partecipando a un’esperienza orientata al dialogo e allo scambio di pensieri\, punti di vista e opinioni.    \n \nLa partecipazione è aperta a tuttə e gratuita con il biglietto di ingresso della mostra. Si consiglia la prenotazione al numero 0113797631\, oppure scrivendo a biglietteria@fsrr.org con oggetto “Let’s Talk”\, indicando un numero di telefono di riferimento.   \n 
URL:https://fsrr.org/evento/lets-talk-percorsi-di-visita-in-mostra-18/
LOCATION:Fondazione Sandretto Re Rebaudengo\, Via Modane 16\, Torino
ATTACH;FMTTYPE=image/jpeg:https://fsrr.org/wp-content/uploads/FSRR-30ANNI-Opening-ph-Perottino-069-scaled.jpg
END:VEVENT
BEGIN:VEVENT
DTSTART;TZID=Europe/Helsinki:20250524T170000
DTEND;TZID=Europe/Helsinki:20250524T193000
DTSTAMP:20260424T121942
CREATED:20250519T140631Z
LAST-MODIFIED:20250519T140631Z
UID:46574-1748106000-1748115000@fsrr.org
SUMMARY:24 maggio | Inaugurazione a Guarene
DESCRIPTION:Inaugurazione a Guarene24 maggio | dalle 17 alle 19.30 \nPalazzo Re Rebaudengo\, Guarene | h 17Inaugurazione diM.U.E. Anime Sradicate\, Andrea Di Lorenzo e Byron GagoA cura di Kittima Chareeprasit \nHai mai visto due animali che si scontrano?\, Valentina FurianA cura di Yueh-Ning Lee \nDeltitnu\, Montecristo ProjectA cura di Ursula Pokorny \nMostre finali della 19 edizione dello Young Curators Residency Programme coordinato da Michele Bertolino \nParco d'arte Sandretto Re Rebaudengo\, Guarene | h 18Partenza da Palazzo Re Rebaudengo verso il Parco d'arte per lo svelamentodell'installazione Une Machine à Jouer\, Parasite 2.0 e dell'opera Altalena\, Francesco ArenaInsieme\, le due installazioni daranno vita a uno spazio ludico. \nLa Banda Musicale Città di Alba "Ars et Labor" accompagnerà nel tragitto da Palazzo Re Rebaudengo al Parco d'Arte. \nAperitivo a seguire al parco \nServizio di navetta gratuito da Torino verso Guarene. Partenza da via Modane 16 a Torino alle ore 16.00. Ritorno alle 20.30. Per prenotare\, inviare una mail a rsvp@fsrr.org
URL:https://fsrr.org/evento/24-maggio-inaugurazione-a-guarene/
ATTACH;FMTTYPE=image/jpeg:https://fsrr.org/wp-content/uploads/3-scaled.jpeg
END:VEVENT
BEGIN:VEVENT
DTSTART;TZID=Europe/Helsinki:20250525T163000
DTEND;TZID=Europe/Helsinki:20250525T170000
DTSTAMP:20260424T121942
CREATED:20250514T132840Z
LAST-MODIFIED:20250514T132840Z
UID:46554-1748190600-1748192400@fsrr.org
SUMMARY:DREAMLAND | LABORATORIO PER FAMIGLIE
DESCRIPTION:ore 16.30 - 18.30   \n Nello spazio della mostra The Land Shall Not Be Owned\, dell’artista libanese Marwa Arsanios\, si semineranno e raccoglieranno gesti\, segni e parole dedicati a una natura condivisa e comunitaria. Con Elena Maria Olivero\, danzatrice e arteterapeuta\, realizzeremo un territorio simbolico con materiali naturali\, come allenamento a coltivare una terra sognata\, ma non utopica: tutta da costruire insieme.   \n  \nIn collaborazione con Associazione Didee\, nell’ambito del programma culturale AFFRETTATI LENTAMENTE. LA PIATTAFORMA | NUOVI CORPI\, NUOVI SGUARDI.  \n  \nInformazioni Dove: Fondazione Sandretto Re Rebaudengo – Via Modane\, 16 – Torino Laboratorio gratuito con prenotazione obbligatoria. L’attività è dedicata a bambinə da 5 a 12 anni\, con le loro famiglie\, ma è aperta a tuttə.   \n   \nPrenotazioni Per prenotare dal lunedì al venerdì\, dalle 10.00 alle 18.00 telefonare a 011-3797631 o scrivere a dip.educativo@fsrr.org\, mentre il sabato e la domenica\, dalle 12.00 alle 19.00 sono attivi il numero 011-3797624 e la mail biglietteria@fsrr.org. 
URL:https://fsrr.org/evento/dreamland-laboratorio-per-famiglie/
LOCATION:Fondazione Sandretto Re Rebaudengo\, Via Modane 16\, Torino
ATTACH;FMTTYPE=image/jpeg:https://fsrr.org/wp-content/uploads/DSC00352-scaled.jpg
END:VEVENT
BEGIN:VEVENT
DTSTART;TZID=Europe/Helsinki:20250529T203000
DTEND;TZID=Europe/Helsinki:20250529T223000
DTSTAMP:20260424T121942
CREATED:20250516T133456Z
LAST-MODIFIED:20250516T133541Z
UID:46567-1748550600-1748557800@fsrr.org
SUMMARY:Let’s Lab: Passaggi
DESCRIPTION:Passaggi è un laboratorio dedicato alla mostra personale dell’artista libanese Marwa Arsanios (1978). Il progetto espositivo ripercorre la serie di film Who is Afraid of Ideology? (2017 – in corso) presentando in anteprima il quinto e più recente capitolo coprodotto dalla Fondazione Sandretto Re Rebaudengo\, insieme ai quattro episodi precedenti.  \nL’attività sarà l’occasione per approfondire contenuti e linguaggi che caratterizzano la mostra The Land Shall Not Be Owned.  La forma e la funzione del film documentario diventano nella pratica dell’artista uno spazio fisico di collegamento\, conversazione e apprendimento sui temi legati alla terra\, al passaggio\, al diritto e al movimento. \nPassaggi è un laboratorio di gruppo in cui condividendo saperi e conoscenze realizzeremo una mappa collettiva fatta di parole\, immagini e segni disegnati e cuciti insieme da tuttə lə partecipantə. \nL’attività è dedicata a giovani e adultə e a tuttə coloro che desiderano trascorrere una serata al museo svolgendo un’attività basata sulla relazione diretta\, personale e creativa con le opere esposte. La partecipazione è gratuita\, si richiede la prenotazione a biglietteria@fsrr.org con oggetto “Let’s Lab” e specificando un numero di riferimento\, oppure tel. 011-3797631.
URL:https://fsrr.org/evento/lets-lab-passaggi/
ATTACH;FMTTYPE=image/jpeg:https://fsrr.org/wp-content/uploads/FSRR-30ANNI-Allestimenti-ph-Perottino-007-scaled.jpg
END:VEVENT
END:VCALENDAR