BEGIN:VCALENDAR
VERSION:2.0
PRODID:-//Fondazione Sandretto Re Rebaudengo - ECPv6.8.1//NONSGML v1.0//EN
CALSCALE:GREGORIAN
METHOD:PUBLISH
X-ORIGINAL-URL:https://fsrr.org
X-WR-CALDESC:Events for Fondazione Sandretto Re Rebaudengo
REFRESH-INTERVAL;VALUE=DURATION:PT1H
X-Robots-Tag:noindex
X-PUBLISHED-TTL:PT1H
BEGIN:VTIMEZONE
TZID:Europe/Helsinki
BEGIN:DAYLIGHT
TZOFFSETFROM:+0200
TZOFFSETTO:+0300
TZNAME:EEST
DTSTART:20250330T010000
END:DAYLIGHT
BEGIN:STANDARD
TZOFFSETFROM:+0300
TZOFFSETTO:+0200
TZNAME:EET
DTSTART:20251026T010000
END:STANDARD
END:VTIMEZONE
BEGIN:VEVENT
DTSTART;TZID=Europe/Helsinki:20250306T180000
DTEND;TZID=Europe/Helsinki:20250306T193000
DTSTAMP:20260424T151855
CREATED:20250129T175300Z
LAST-MODIFIED:20250218T122226Z
UID:44504-1741284000-1741289400@fsrr.org
SUMMARY:PICCOLI CORPI BLU
DESCRIPTION:Pratiche di movimento e azione collettiva intorno a Piccoli spiriti blu di Rebecca Horn. \nPer la 27esima edizione di Luci d’Artista\, la Fondazione Sandretto Re Rebaudengo conferma la sua adesione al Public Program Accademia della Luce. La Luce Piccoli spiriti blu\, collocata intorno alla Chiesa di Santa Maria del Monte dei Cappuccini\, è la fonte di ispirazione per le pratiche di movimento proposte dal performer e docente di Feldenkrais Emanuele Enria. Il ciclo di incontri sarà l’occasione per accedere ai linguaggi dell’arte contemporanea\, mentre si pratica il movimento consapevole come strumento per migliorare il benessere fisico\, mentale ed emotivo. Gli incontri sono gratuiti e aperti a tutte le persone interessate alla pratica e ai temi proposti\, e saranno facilitati per persone con disabilità visiva. \nGli incontri successivi si terranno sempre dalle 18 alle 19.30 in queste date: \n6 marzo / Open Day e presentazione del percorsoFondazione Sandretto Re Rebaudengo \n20 marzo / Fondazione Sandretto Re Rebaudengo  \n1 aprile / Fondazione Sandretto Re Rebaudengo  \n17 aprile / Fondazione Sandretto Re Rebaudengo  \n8 maggio / Chiesa di Santa Maria del Monte dei Cappuccini \n12 maggio / Giornata di Studi dedicata ai progetti educativi di Accademia della Luce. Accademia Albertina delle Belle Arti di Torino  \nSegnaliamo inoltre la mostra al Castello di Rivoli Museo d’Arte Contemporanea Cutting Through the Past di Rebecca Horn\, dal 22 maggio al 21 settembre 2025\, a cura di Marcella Beccaria e Jana Baumann\, prima retrospettiva in un’istituzione museale pubblica in Italia. \nPer informazioni e iscrizioni: t. 011-3797631 | dip.educativo@fsrr.org | www.fsrr.org/educazione | https://www.lucidartistatorino.org/accademia-della-luce/2024-2025/
URL:https://fsrr.org/evento/piccoli-corpi-blu/
LOCATION:Fondazione Sandretto Re Rebaudengo\, Via Modane 16\, Torino
ATTACH;FMTTYPE=image/jpeg:https://fsrr.org/wp-content/uploads/5-Piccoli-spiriti-blu-di-Rebecca-HORN-al-Monte-dei-Cappuccini-1.jpg
END:VEVENT
BEGIN:VEVENT
DTSTART;TZID=Europe/Helsinki:20250309T163000
DTEND;TZID=Europe/Helsinki:20250309T163000
DTSTAMP:20260424T151855
CREATED:20250221T105812Z
LAST-MODIFIED:20250221T105812Z
UID:45838-1741537800-1741537800@fsrr.org
SUMMARY:Di tutte le cose visibili e invisibili
DESCRIPTION:Lə danzatorə Francesca Cola e Mirko Pitsalis si muovono creando un sottile dialogo fatto di gesti e movimenti. Insieme\, generano uno spazio tattile\, che\, in collaborazione con i performer dell’associazione Oltre le Quinte\, si aprirà\, per chi lo desidera\, ad un attraversamento danzante collettivo e accessibile a bambinə\, adultə e a qualsiasi abilità.  \nFrancesca Cola\, Persona Altamente Sensibile\, danzatrice e performer\, è un'artista transdisciplinare che indaga i confini tra danza contemporanea\, performing art e arti visive.   \nMirko Pitzalis è danzatore e performer. Tra le sue esperienze\, performance condotte da Virgilio Sieni e Julie Anne Stanzak. Collabora stabilmente con l’associazione Oltre le Quinte.  \nSoundscapes live: Francesca Bruna.  \nLa partecipazione è aperta a tuttə e gratuita. È consigliata la prenotazione al numero 011 3797631\, oppure scrivendo a accessibilita@fsrr.org.  \n 
URL:https://fsrr.org/evento/di-tutte-le-cose-visibili-e-invisibili/
ATTACH;FMTTYPE=image/png:https://fsrr.org/wp-content/uploads/Screenshot-2025-02-21-alle-11.57.12.png
END:VEVENT
BEGIN:VEVENT
DTSTART;TZID=Europe/Helsinki:20250310T153000
DTEND;TZID=Europe/Helsinki:20250310T153000
DTSTAMP:20260424T151855
CREATED:20250221T110103Z
LAST-MODIFIED:20250221T110103Z
UID:45843-1741620600-1741620600@fsrr.org
SUMMARY:Alfabeti d’Amore
DESCRIPTION:Il percorso Alfabeti d’amore parte dall’esplorazione della mostra When Attitudes Take Form\, organizzata dalla Fondazione Sandretto Re Rebaudengo in occasione dei Giochi Mondiali Invernali Special Olympics 2025 a Torino.  \nSi prosegue con esperienze laboratoriali di carattere espressivo legate al movimento\, al gesto e al segno. Attraverso il gioco\, introdurremo alcuni elementi della Lingua Italiana dei Segni\, per tradurre insieme le parole legate alla mostra When Attitudes Take Form e ai temi di Special Olympics. Inviteremo chi partecipa a inventare nuovi modi di comunicare\, ci divertiremo a tradurre le emozioni in parola\, la parola in gesto\, il gesto in movimento nello spazio\, il movimento in segno... per poi tornare all’emozione.  \nIl percorso è realizzato in collaborazione con l’Associazione Tedacà.  \nLa partecipazione è gratuita. L'età consigliata è 11-14 anni.  \nInfo e prenotazioni: Dal lunedì al venerdì\, dalle 10.00 alle 18.00 al numero 011 3797631\, oppure via mail a dip.educativo@fsrr.org. 
URL:https://fsrr.org/evento/alfabeti-damore/
ATTACH;FMTTYPE=image/png:https://fsrr.org/wp-content/uploads/Screenshot-2025-02-21-alle-12.00.49.png
END:VEVENT
BEGIN:VEVENT
DTSTART;TZID=Europe/Helsinki:20250311T100000
DTEND;TZID=Europe/Helsinki:20250311T100000
DTSTAMP:20260424T151855
CREATED:20250221T115417Z
LAST-MODIFIED:20250221T115417Z
UID:45887-1741687200-1741687200@fsrr.org
SUMMARY:Vie di Uscita
DESCRIPTION:Vie di uscita è un percorso dedicato a persone con afasia e ai loro caregiver\, un programma di avvicinamento ai linguaggi dell'arte contemporanea attraverso gli strumenti poetici di danza\, immagine e parola. Ogni incontro si concentra su un'opera d'arte contemporanea e attraversa dei momenti osservativi e riflessivi\, e propone pratiche di danza accessibile ispirate ai contenuti e alle forme delle opere. In occasione dei Giochi Mondiali Invernali Special Olympics 2025 a Torino\, la pratica e l’osservazione saranno dedicate alla mostra When Attitudes Take Form e saranno aperte alla partecipazione di chiunque sia interessatə alla pratica e ai temi proposti.  \nVie di Uscita è un progetto in collaborazione con Fondazione Carlo Molo e la danzaterapeuta Elena Maria Olivero.  \nLa partecipazione è gratuita\, con prenotazione obbligatoria a: accessibilita@fsrr.org oppure 0113797631. Il sabato e la domenica\, dalle 12.00 alle 19.00\, 0113797624. 
URL:https://fsrr.org/evento/vie-di-uscita/
LOCATION:Fondazione Sandretto Re Rebaudengo\, Via Modane 16\, Torino
ATTACH;FMTTYPE=image/png:https://fsrr.org/wp-content/uploads/Screenshot-2025-02-21-alle-12.53.51.png
END:VEVENT
BEGIN:VEVENT
DTSTART;TZID=Europe/Helsinki:20250314T180000
DTEND;TZID=Europe/Helsinki:20250314T180000
DTSTAMP:20260424T151855
CREATED:20250221T134319Z
LAST-MODIFIED:20250312T155850Z
UID:45899-1741975200-1741975200@fsrr.org
SUMMARY:Fuori e dentro il confine. Arte\, collezionismo\, fragilità. Uno sguardo su spazi e regole della produzione artistica.  
DESCRIPTION:In occasione dei Giochi Mondiali Invernali Special Olympics 2025\, la Fondazione Sandretto Re Rebaudengo organizza When Attitudes Take Form\, una mostra che presenta il lavoro di tredici artistə\, provenienti da centri per lo sviluppo e la promozione di artistə disabili in Regno Unito\, Australia\, Stati Uniti. La mostra è curata da Tom Eccles\, Executive Director al Center for Curatorial Studies del Bard College (NY)\, le opere esposte fanno parte di importanti collezioni private e sono state presenti in mostre di prestigiose istituzioni museali statunitensi. La mostra sarà il punto di partenza per una riflessione sul confronto tra istituzioni internazionali e la realtà di Torino\, che\, in una situazione unica sul panorama italiano\, ha visto la creazione di un importante collezionismo pubblico e di un fertile intreccio tra cultura e fragilità\, e di quel mondo che in francese si chiama Art Brut\, in inglese Outsider Art\, da noi Arte Irregolare.   \nIntervengono:  \n\nJacopo Rosatelli\, Assessore a welfare\, diritti e pari opportunità della Città di Torino\nMaresa Pagura\, Responsabile del Centro Arte Singolare e Plurale. Divisione Inclusione Sociale - Dipartimento Servizi Sociali\, Socio Sanitari e Abitativi - Comune di Torino\nCaroline Ellen Liou\, curatrice della Fondazione Sandretto Re Rebaudengo\nAnnamaria Cilento\, referente per i progetti di accessibilità culturale del Dipartimento Educativo della Fondazione Sandretto Re Rebaudengo\nTea Taramino\, ideatrice del progetto di valorizzazione dell'Arte Irregolare Mai Visti\nGianluigi Mangiapane\, MAET Museo Antropologia e Etnografia\, Sezione Sistema Museale di Ateneo\, Università di Torino
URL:https://fsrr.org/evento/fuori-e-dentro-il-confine-arte-collezionismo-fragilita-uno-sguardo-su-spazi-e-regole-della-produzione-artistica/
LOCATION:Fondazione Sandretto Re Rebaudengo\, Via Modane 16\, Torino
ATTACH;FMTTYPE=image/png:https://fsrr.org/wp-content/uploads/Screenshot-2025-02-21-alle-14.42.50.png
END:VEVENT
BEGIN:VEVENT
DTSTART;TZID=Europe/Helsinki:20250315T100000
DTEND;TZID=Europe/Helsinki:20250315T100000
DTSTAMP:20260424T151855
CREATED:20250221T134507Z
LAST-MODIFIED:20250221T134507Z
UID:45921-1742032800-1742032800@fsrr.org
SUMMARY:Dance Well. Pratica artistica rivolta a persone con Parkinson\, ma aperta a tuttə
DESCRIPTION:Dance Well torna ad abitare gli spazi in Fondazione Sandretto Re Rebaudengo\, per partecipare alla celebrazione dei Giochi Mondiali Invernali Special Olympics 2025. Insieme\, attraverseremo gli spazi danzando le forme dell’arte\, della molteplicità e dell’unicità di ciascunə.  \nDance Well è una pratica artistica rivolta principalmente a persone con Parkinson\, ma aperta a tuttə\, che accoglierà chiunque voglia partecipare a questa festa e prendersi cura del proprio corpo in movimento e dellə altrə.  \nLa partecipazione è gratuita\, l’scrizione è obbligatoria.  Per informazioni e iscrizioni: accessibilita@fsrr.org  oppure progetti@lavanderiaavapore.eu\, tel. 011 3797631. Il sabato e la domenica\, dalle 12.00 alle 19.00\, 011-3797624.  \nDANCE WELL è un progetto di Lavanderia a Vapore in collaborazione con Centro per la Scena Contemporanea di Bassano del Grappa e con Associazione Italiana Giovani Parkinsoniani.  \n 
URL:https://fsrr.org/evento/dance-well-pratica-artistica-rivolta-a-persone-con-parkinson-ma-aperta-a-tutt%c9%99/
ATTACH;FMTTYPE=image/png:https://fsrr.org/wp-content/uploads/Screenshot-2025-02-21-alle-14.44.01.png
END:VEVENT
BEGIN:VEVENT
DTSTART;VALUE=DATE:20250320
DTEND;VALUE=DATE:20250322
DTSTAMP:20260424T151855
CREATED:20250320T081221Z
LAST-MODIFIED:20250320T091619Z
UID:46269-1742472000-1742558399@fsrr.org
SUMMARY:Piccoli Corpi Blu. Pratiche di movimento e azione collettiva intorno a Piccoli spiriti blu di Rebecca Horn
DESCRIPTION:Oggi alle 18 si terrà il secondo incontro del percorso Piccoli Corpi Blu\, percorso di arte e Feldenkrais condotto da Emanuele Enria. Lavoreremo intorno a Feather Fingers\, un'opera del 1972 in cui Rebecca Horn propone una tattilità intensa e raffinata.\n \nVi ricordiamo\, inoltre\, le prossime date:\n 1 aprile | Fondazione Sandretto Re Rebaudengo\n 17 aprile | Fondazione Sandretto Re Rebaudengo\n 8 maggio | Chiesa di Santa Maria del Monte dei Cappuccini\n 12 maggio | Giornata di Studi dedicata ai progetti educativi di Accademia della Luce. Accademia Albertina delle Belle Arti di Torino\n \nGli incontri sono gratuiti e aperti a tutte le persone interessate alla pratica Feldenkrais e ai temi proposti\, e saranno facilitati per persone con disabilità visiva. L'iscrizione è obbligatoria. Per informazioni e iscrizioni: t. 011-3797631  |  dip.educativo@fsrr.org \nhttps://fsrr.org/dip-educativi/pubblico-adulto/ https://www.lucidartistatorino.org/accademia-della-luce/2024-2025/ \nQuesti incontri sono parte di Accademia della Luce\, il Public Program di Luci d’Artista.\n \nSegnaliamo inoltre la mostra al Castello di Rivoli Museo d’Arte Contemporanea Cutting Through the Past\, di Rebecca Horn\, dal 22 maggio al 21 settembre 2025\, a cura di Marcella Beccaria e Jana Baumann\, prima retrospettiva in un’istituzione museale pubblica in Italia. 
URL:https://fsrr.org/evento/piccoli-corpi-blu-pratiche-di-movimento-e-azione-collettiva-intorno-a-piccoli-spiriti-blu-di-rebecca-horn/
ATTACH;FMTTYPE=image/jpeg:https://fsrr.org/wp-content/uploads/feder1.jpg
END:VEVENT
BEGIN:VEVENT
DTSTART;TZID=Europe/Helsinki:20250323T160000
DTEND;TZID=Europe/Helsinki:20250323T180000
DTSTAMP:20260424T151855
CREATED:20250313T112922Z
LAST-MODIFIED:20250314T105938Z
UID:46184-1742745600-1742752800@fsrr.org
SUMMARY:Parole speciali
DESCRIPTION:Laboratorio per famiglieIn collaborazione con l’associazione ConTatto.  \nUn laboratorio per famiglie legato alla mostra When Attitudes Take Form e ai temi dell’accessibilità e del diritto alla cultura per tuttə.  Lavoreremo su uno speciale glossario di parole\, da mettere in gioco\, discutere\, condividere\, donare\, da stampare e portare via con sé.  \nInformazioni e prenotazioni: dal lunedì al venerdì dalle 10.00 alle 18.00 al numero 0113797631 oppure via mail a dip.educativo@fsrr.org Fondazione Sandretto Re Rebaudengo\, Via Modane 16\, Torino \n 
URL:https://fsrr.org/evento/parole-speciali/
LOCATION:Fondazione Sandretto Re Rebaudengo\, Via Modane 16\, Torino
ATTACH;FMTTYPE=image/png:https://fsrr.org/wp-content/uploads/Screenshot-2025-03-13-alle-12.27.27.png
END:VEVENT
END:VCALENDAR