BEGIN:VCALENDAR
VERSION:2.0
PRODID:-//Fondazione Sandretto Re Rebaudengo - ECPv6.8.1//NONSGML v1.0//EN
CALSCALE:GREGORIAN
METHOD:PUBLISH
X-WR-CALNAME:Fondazione Sandretto Re Rebaudengo
X-ORIGINAL-URL:https://fsrr.org
X-WR-CALDESC:Events for Fondazione Sandretto Re Rebaudengo
REFRESH-INTERVAL;VALUE=DURATION:PT1H
X-Robots-Tag:noindex
X-PUBLISHED-TTL:PT1H
BEGIN:VTIMEZONE
TZID:Europe/Helsinki
BEGIN:DAYLIGHT
TZOFFSETFROM:+0200
TZOFFSETTO:+0300
TZNAME:EEST
DTSTART:20250330T010000
END:DAYLIGHT
BEGIN:STANDARD
TZOFFSETFROM:+0300
TZOFFSETTO:+0200
TZNAME:EET
DTSTART:20251026T010000
END:STANDARD
END:VTIMEZONE
BEGIN:VEVENT
DTSTART;TZID=Europe/Helsinki:20250201T160000
DTEND;TZID=Europe/Helsinki:20250201T180000
DTSTAMP:20260424T165835
CREATED:20250123T105245Z
LAST-MODIFIED:20250123T113501Z
UID:44059-1738425600-1738432800@fsrr.org
SUMMARY:Visita con esperienze tattili alla mostra Silent Studio\, di Mark Manders
DESCRIPTION:1 febbraio ore 16 \nLa pratica artistica di Mark Manders è legata all'idea del passare del tempo\, del superamento della quotidianità\, del potere che ha l'arte di creare attraverso le immagini e le parole\, mescolandone i ruoli. Attraverseremo la mostra\, una ricostruzione dello studio dell'artista\, per conoscere le opere\, proveremo a svelare qualcuno dei suoi segreti\, nascosti nei materiali che utilizza per le sue sculture. \nLa visita sarà arricchita da esperienze tattili\, realizzate insieme all'Unione Italiana Ciechi e Ipovedenti di Torino\, e dal racconto delle persone cieche e ipovedenti che hanno collaborato. \nL’incontro è gratuito e aperto a tuttə\, ed è facilitato per pubblico con disabilità visiva. Le persone vedenti possono partecipare anche bendate o accompagnando una persona che non vede. \nPrenotazione obbligatoria a: accessibilita@fsrr.org oppure 0113797631. Il sabato e la domenica\, dalle 12.00 alle 19.00\, 0113797624.
URL:https://fsrr.org/evento/visita-con-esperienze-tattili-4/
LOCATION:Fondazione Sandretto Re Rebaudengo\, Via Modane 16\, Torino
ATTACH;FMTTYPE=image/jpeg:https://fsrr.org/wp-content/uploads/MM_17-1-scaled.jpg
END:VEVENT
BEGIN:VEVENT
DTSTART;TZID=Europe/Helsinki:20250209T160000
DTEND;TZID=Europe/Helsinki:20250209T173000
DTSTAMP:20260424T165835
CREATED:20250205T095728Z
LAST-MODIFIED:20250205T095757Z
UID:44923-1739116800-1739122200@fsrr.org
SUMMARY:Let’s Talk Guest con Gabriele Marino 
DESCRIPTION:Let’s Talk Guest con Gabriele Marino Domenica 9 febbraio16.00 - 17.30 Fondazione Sandretto Re Rebaudengo - via Modane 16\, 10123 Torino  \nIn occasione della mostra Daytime Viewing\, a cura di ALMARE in collaborazione con David Rosenboom\, il Let’s Talk Guest di domenica 9 febbraio vedrà la partecipazione del semiologo e ricercatore dell’Università di Torino Gabriele Marino.  Daytime Viewing è una composizione narrativa estesa\, un’intensa riflessione sulla condizione femminile. Creata tra il 1979 e il 1980 e originariamente pensata come performance teatrale\, l’opera scaturisce dall’analisi delle fiction televisive diurne e dei fenomeni socio-culturali assimilabili all’audience a cui tale programmazione si rivolgeva.  \n L’intervento di Marino\, in dialogo con le mediatrici culturali dell’arte della Fondazione\, faciliterà una riflessione estesa e condivisa sulle tematiche della mostra\, riattualizzandole e mettendole in relazione con le più recenti ricerche inerenti le dinamiche dei social media.   \nI Let’s Talk Guest sono appuntamenti dedicati a piccoli gruppi\, in cui è possibile approfondire i temi delle mostre e la ricerca dellə artistə\, condividendo un’esperienza caratterizzata dal consueto metodo della mediazione culturale dell’arte\, in dialogo con ospiti ogni volta diversi.  La partecipazione è aperta a tuttə e gratuita. Si richiede la prenotazione al numero 011-3797631\, oppure scrivendo a biglietteria@fsrr.org con oggetto “Let’s Talk Guest”\, indicando un numero di telefono di riferimento.    \nGabriele Marino. Semiologo\, lavora come ricercatore all’Università di Torino\, dove insegna Semiotica delle culture musicali. Si occupa di musica\, comunicazione online e teoria semiotica. Ha pubblicato Britney canta Manson e altri capolavori (2011)\, sulla critica musicale\, e Frammenti di un disco incantato (2020)\, sui generi musicali. Con Bruno Surace ha ideato il format #semioboomer (80 puntate online\, 2020-2022) e curato il libro TikTok. Capire le dinamiche della comunicazione ipersocial (2023)\, primo saggio italiano sull’argomento.   
URL:https://fsrr.org/evento/lets-talk-guest-con-gabriele-marino/
ATTACH;FMTTYPE=image/png:https://fsrr.org/wp-content/uploads/Daytime-Viewing-Annuncio-Evento-FB.png
END:VEVENT
BEGIN:VEVENT
DTSTART;TZID=Europe/Helsinki:20250213T203000
DTEND;TZID=Europe/Helsinki:20250213T223000
DTSTAMP:20260424T165835
CREATED:20250205T093514Z
LAST-MODIFIED:20250205T093514Z
UID:44918-1739478600-1739485800@fsrr.org
SUMMARY:Let’s Lab / Your Mouth Comes Second 
DESCRIPTION:Let’s Lab | Your Mouth Comes Second Giovedì 13 febbraio\, dalle 20.30 alle 22.30 Fondazione Sandretto Re Rebaudengo\, Via Modane 16\, Torino  \nLa mente di una persona principiante non ha prezzo: è come imparare una nuova lingua\, commettere errori bellissimi\, trascurare di leggere le immagini e le idee nel modo corretto.  \n Stefanie Heinze\, Your Mouth Comes Second\, 2024   \nStefanie Heinze invita con il suo lavoro ad esplorare ciò che precede il linguaggio: incertezze\, sensazioni\, intuizioni. Nata a Berlino nel 1987\, l’artista parla di un immaginario instabile come forma di dis-apprendimento\, in cui provare a liberarsi da categorie prestabilite\, misurare la propria apertura al cambiamento e ricercare nuovi vocabolari possibili.  \nIl laboratorio sarà l'occasione per sperimentare il processo pittorico di Stefanie Heinze attraverso il disegno\, il collage e la scrittura. Con il concetto di “both and” (letteralmente “entrambi e …”)\, l'artista rifiuta di prendere una posizione univoca tra astrazione e figurazione. Durante l'attività ci immergeremo così nella sua pratica di continua costruzione e decostruzione\, in cui le immagini vengono tagliate e ricomposte\, fuse\, dissolte\, sovrapposte\, oscurate.   L’attività è dedicata a giovani e adultə e a tuttə coloro che desiderano trascorrere una serata al museo svolgendo un’attività di gruppo basata sulla relazione diretta\, personale e creativa con le opere esposte. La partecipazione è gratuita\, si richiede la prenotazione a biglietteria@fsrr.org con oggetto “Let’s Lab” e specificando un numero di riferimento\, oppure telefonando allo:  011-3797631. 
URL:https://fsrr.org/evento/lets-lab-your-mouth-comes-second/
ATTACH;FMTTYPE=image/jpeg:https://fsrr.org/wp-content/uploads/Night-Hag-2022-bassa.jpg
END:VEVENT
BEGIN:VEVENT
DTSTART;TZID=Europe/Helsinki:20250216T163000
DTEND;TZID=Europe/Helsinki:20250216T183000
DTSTAMP:20260424T165835
CREATED:20250207T150156Z
LAST-MODIFIED:20250207T151127Z
UID:44948-1739723400-1739730600@fsrr.org
SUMMARY:Bugie d’artista
DESCRIPTION:Chi non ha mai detto una bugia? Grande o piccola\, ingenua o premeditata\, una bugia con il naso lungo o con le gambe corte? Anche l’artista Mark Manders ci inganna portandoci nel suo mondo di bugie e magie\, uno spazio di finzione\, abitato da personaggi fuori dal tempo.  \nGiocheremo insieme alle nostre piccole bugie\, le cercheremo nelle fiabe e nelle opere d’arte\, per poi realizzare una maschera che possa farci apparire ciò che non siamo\, che inventi una nuova faccia e identità\, prontə per sfilare tra le sale del museo e per le strade della città!  \nInformazioni Dove: Fondazione Sandretto Re Rebaudengo – Via Modane\, 16 – Torino Costo: 5 euro a bambinə o gratuito con tessera Abbonamento Torino Musei Junior\, e gratuito per un massimo di due adultə. Attività a numero chiuso su iscrizione. Attività indicata dai 4 anni in su.   \nPrenotazioni Per prenotare dal lunedì al venerdì\, dalle 10.00 alle 18.00 telefonare a 011-3797631 o scrivere a dip.educativo@fsrr.org\, mentre il sabato e la domenica\, dalle 12.00 alle 19.00 sono attivi il numero 011-3797624 e la mail biglietteria@fsrr.org
URL:https://fsrr.org/evento/bugie-dartista/
LOCATION:Fondazione Sandretto Re Rebaudengo\, Via Modane 16\, Torino
ATTACH;FMTTYPE=image/png:https://fsrr.org/wp-content/uploads/Screenshot-2025-02-07-alle-16.00.56.png
END:VEVENT
BEGIN:VEVENT
DTSTART;TZID=Europe/Helsinki:20250220T183000
DTEND;TZID=Europe/Helsinki:20250220T183000
DTSTAMP:20260424T165835
CREATED:20250206T115153Z
LAST-MODIFIED:20250207T150315Z
UID:44937-1740076200-1740076200@fsrr.org
SUMMARY:Maria Luisa Frisa presenta I racconti della moda
DESCRIPTION:Auditorium Fondazione Sandretto Re Rebaudengo\, Via Modane 16\, Torino \nMaria Luisa Frisa presenta "I racconti della moda" (Giulio Einaudi editore). L'autrice dialoga con Giovanni Audiffredi\, Editor in Chief Esquire Italy.Cocktail a seguire.Ingresso libero fino ad esaurimento posti. Gradita la conferma a rsvp@fsrr.org. \nÈ la forma d'arte piú contraddittoria di tutte. Visionaria e insieme classica\, pop ma anche snob\, fieramente ignorata da molti eppure capace di muovere il mondo. La moda è un prisma: cultura e industria\, sogno irraggiungibile e necessità quotidiana\, haute couture e fast fashion. Ma in tutti questi anni\, come l'ha raccontata la letteratura? E cosa ne sappiamo noi\, veramente? Tra grandi nomi e riscoperte che non potremo piú dimenticare\, in questa raccolta scintillano voci\, sguardi e immaginari diversissimi\, cuciti in un disegno audace\, eclettico e divertente\, pieno di intelligenza. Un viaggio dai salotti sfarzosi di inizio Novecento fino alle passerelle e ai flash dei giorni nostri\, dai fruscii dell'atelier ai corpi iconici di domani.
URL:https://fsrr.org/evento/maria-luisa-frisa-presenta-i-racconti-della-moda/
LOCATION:Auditorium Fondazione Sandretto Re Rebaudengo
ATTACH;FMTTYPE=image/jpeg:https://fsrr.org/wp-content/uploads/Frisa-c-Antonino-Cafiero-ritratto-1-scaled-e1738843041625.jpg
END:VEVENT
END:VCALENDAR