BEGIN:VCALENDAR
VERSION:2.0
PRODID:-//Fondazione Sandretto Re Rebaudengo - ECPv6.8.1//NONSGML v1.0//EN
CALSCALE:GREGORIAN
METHOD:PUBLISH
X-ORIGINAL-URL:https://fsrr.org
X-WR-CALDESC:Events for Fondazione Sandretto Re Rebaudengo
REFRESH-INTERVAL;VALUE=DURATION:PT1H
X-Robots-Tag:noindex
X-PUBLISHED-TTL:PT1H
BEGIN:VTIMEZONE
TZID:Europe/Helsinki
BEGIN:DAYLIGHT
TZOFFSETFROM:+0200
TZOFFSETTO:+0300
TZNAME:EEST
DTSTART:20250330T010000
END:DAYLIGHT
BEGIN:STANDARD
TZOFFSETFROM:+0300
TZOFFSETTO:+0200
TZNAME:EET
DTSTART:20251026T010000
END:STANDARD
END:VTIMEZONE
BEGIN:VEVENT
DTSTART;TZID=Europe/Helsinki:20250106T163000
DTEND;TZID=Europe/Helsinki:20250106T183000
DTSTAMP:20260424T183529
CREATED:20241220T095306Z
LAST-MODIFIED:20241220T095307Z
UID:43493-1736181000-1736188200@fsrr.org
SUMMARY:AZIONI D’ARGILLA
DESCRIPTION:LABORATORIO SPECIALE PER IL 6 GENNAIO | AZIONI D’ARGILLA Orario 16.30 - 18.30    \n\nFesteggiamo insieme l'arrivo della Befana con una nuova edizione del laboratorio Azioni d’Argilla ispirato alla mostra Silent Studio di Mark Manders\, un modo divertente per sperimentare il vocabolario materico dell’artista. Ogni materia ha la sua voce\, che si connette con quella di chi la manipola\, la plasma\, la tocca e la trasforma. Ogni famiglia durante il laboratorio realizzerà una piccola scultura di creta e legno da portare con sé. Il laboratorio creativo è aperto a tuttə\, adultə e bambinə. \n Informazioni Dove: Fondazione Sandretto Re Rebaudengo – Via Modane\, 16 – Torino COSTO: 5 euro a bambinə o gratuito con tessera Abbonamento Torino Musei Junior\, e gratuito per un massimo di due adulti che accompagnano. Attività a numero chiuso su iscrizione\, laboratorio adatta a tuttə.  \nPrenotazioni Per prenotare dal lunedì al venerdì\, dalle 10.00 alle 18.00 telefonare a 011-3797631 o scrivere a dip.educativo@fsrr.org\, mentre il sabato e la domenica\, dalle 12.00 alle 19.00 sono attivi il numero 011-3797624 e la mail biglietteria@fsrr.org.  \n\n 
URL:https://fsrr.org/evento/azioni-dargilla/
LOCATION:Fondazione Sandretto Re Rebaudengo\, Via Modane 16\, Torino
ATTACH;FMTTYPE=image/jpeg:https://fsrr.org/wp-content/uploads/1O3A6041-scaled.jpg
END:VEVENT
BEGIN:VEVENT
DTSTART;TZID=Europe/Helsinki:20250130T190000
DTEND;TZID=Europe/Helsinki:20250130T210000
DTSTAMP:20260424T183529
CREATED:20241220T100021Z
LAST-MODIFIED:20241220T100021Z
UID:43499-1738263600-1738270800@fsrr.org
SUMMARY:Let’s Read Guest con Gabriella Dal Lago
DESCRIPTION:Let’s Read Guest con Gabriella Dal Lago Giovedì 30 gennaio\, 19.00 - 21.00 Fondazione Sandretto Re Rebaudengo\, Via Modane 16\, Torino  \n Prosegue Let’s Read Guest con Gabriella Dal Lago\, un ciclo di appuntamenti organizzato in dialogo con le mediatrici culturali della Fondazione Sandretto Re Rebaudengo\, in cui romanzi\, poesie e libri diventano uno strumento per leggere e approfondire temi e pratiche delle mostre. Attraverso il confronto con i romanzi scelti\, la lettura di brani ad alta voce e una serie di esercizi di scrittura e visione troveremo nuovi modi di abitare gli spazi della mostra.   \nIl 30 gennaio ci muoveremo nel Silent Studio di Mark Manders leggendo brani tratti da Biografia di X di Catherine Lacey\, pubblicato in Italia da Sur nella traduzione di Teresa Ciuffoletti. Attraverso l’avvincente romanzo di Lacey\, costruito come una vera biografia di un’artista immaginaria\, che intreccia la fiction ai fatti storici e simula interviste\, materiale d’archivio e persino fotografie\, ragioneremo sulla distinzione tra finzione e realtà\, sulla falsificazione\, sulla menzogna\, temi che ricorrono anche nel lavoro di Manders. La costruzione biografica di X e quella autobiografica di Manders entreranno in contatto e ci permetteranno di discutere ed esercitarci a immaginare\, mentire e fingere.  \nL’attività è aperta a tuttə e gratuita. La prenotazione è obbligatoria inviando una mail a biglietteria@fsrr.org con oggetto “Let’s Read” e specificando un numero di riferimento\, oppure telefonando allo 011-3797631.   \nGabriella Dal Lago è autrice e romanziera. Scrive per diverse riviste culturali\, si occupa di letteratura\, libri\, arte\, questioni di genere e lavora con i social. Il suo ultimo romanzo è Estate caldissima (66thand2nd\, 2023). Per Einaudi ha pubblicato Le piú brave. Competizione e sorellanza tra le prime della classe (2024). 
URL:https://fsrr.org/evento/lets-read-guest-con-gabriella-dal-lago-3/
LOCATION:Fondazione Sandretto Re Rebaudengo\, Via Modane 16\, Torino
ATTACH;FMTTYPE=image/jpeg:https://fsrr.org/wp-content/uploads/Artissima24-FSSR-Preview-AP-0148-scaled.jpg
END:VEVENT
END:VCALENDAR