BEGIN:VCALENDAR
VERSION:2.0
PRODID:-//Fondazione Sandretto Re Rebaudengo - ECPv6.8.1//NONSGML v1.0//EN
CALSCALE:GREGORIAN
METHOD:PUBLISH
X-WR-CALNAME:Fondazione Sandretto Re Rebaudengo
X-ORIGINAL-URL:https://fsrr.org
X-WR-CALDESC:Events for Fondazione Sandretto Re Rebaudengo
REFRESH-INTERVAL;VALUE=DURATION:PT1H
X-Robots-Tag:noindex
X-PUBLISHED-TTL:PT1H
BEGIN:VTIMEZONE
TZID:Europe/Helsinki
BEGIN:DAYLIGHT
TZOFFSETFROM:+0200
TZOFFSETTO:+0300
TZNAME:EEST
DTSTART:20240331T010000
END:DAYLIGHT
BEGIN:STANDARD
TZOFFSETFROM:+0300
TZOFFSETTO:+0200
TZNAME:EET
DTSTART:20241027T010000
END:STANDARD
END:VTIMEZONE
BEGIN:VEVENT
DTSTART;TZID=Europe/Helsinki:20240912T190000
DTEND;TZID=Europe/Helsinki:20240912T210000
DTSTAMP:20260425T005955
CREATED:20240726T103306Z
LAST-MODIFIED:20240726T103306Z
UID:41975-1726167600-1726174800@fsrr.org
SUMMARY:Let’s Read Guest con Gabriella Dal Lago
DESCRIPTION:Let’s Read Guest con Gabriella Dal Lago\nGiovedì 12 settembre\, dalle 19.00 alle 21.00 \nTorna un nuovo incontro di Let’s Read Guest\, parte di un ciclo progettato dalle mediatrici culturali della Fondazione Sandretto Re Rebaudengo e da Gabriella Dal Lago. Con l’appuntamento del 12 settembre indirizziamo lo sguardo verso il racconto della distanza. A partire dalla mostra personale di Mohammed Sami\, Isthmus\, intrecciamo l’esplorazione delle opere con la lettura di Tangerinn di Emanuela Anechoum\, pubblicato in Italia da e/o. E ci chiediamo: da che punto si raccontano i luoghi che sono stati lasciati? Come la memoria e l’immaginazione trasformano i paesaggi del ricordo in paesaggi della narrazione? \nLet’s Read Guest è un’occasione per condividere pensieri\, riflessioni ed emozioni\, secondo l’approccio discorsivo della mediazione culturale dell'arte.\nL’attività è aperta a tuttə e gratuita. La prenotazione è obbligatoria inviando una mail a biglietteria@fsrr.org con oggetto “Let’s Read” e specificando un numero di telefono di riferimento\, oppure telefonando al numero 0113797631. \nGabriella Dal Lago lavora con i libri\, la scrittura\, la comunicazione\, l’arte contemporanea\, e scrive. I suoi due romanzi\, Uto e Gesso (2022) e Estate Caldissima (2023) sono pubblicati da 66thand2nd.
URL:https://fsrr.org/evento/lets-read-guest-con-gabriella-dal-lago-2/
ATTACH;FMTTYPE=image/jpeg:https://fsrr.org/wp-content/uploads/LetsRead1.jpg
END:VEVENT
BEGIN:VEVENT
DTSTART;TZID=Europe/Helsinki:20240919T183000
DTEND;TZID=Europe/Helsinki:20240919T193000
DTSTAMP:20260425T005955
CREATED:20240913T084423Z
LAST-MODIFIED:20240913T094413Z
UID:42217-1726770600-1726774200@fsrr.org
SUMMARY:Premio StellaRe a Maria Manetti Shrem
DESCRIPTION:Premio StellaRe a Maria Manetti Shrem\n19 settembre | h 18.30 \nLa Fondazione Sandretto Re Rebaudengo conferisce il Premio StellaRe 2024 alla filantropa italo-americana\, Maria Manetti Shrem. Prima della cerimonia di premiazione Massimo Lapucci\, Rockefeller Philantropy Advisor – International Fellow Yale University\, farà un intervento sulla filantropia.\n \nObbligatoria la prenotazione a rsvp@fsrr.org. Posti limitati. \nIl 19 settembre le mostre saranno chiuse al pubblico. \nPremio StellaRe\nStellaRe è il nome del Premio che dal 2006 la Fondazione Sandretto Re Rebaudengo assegna a donne che\, con il loro lavoro\, il loro impegno e le loro idee\, hanno tracciato nuovi sentieri nei campi più diversi del sapere\, con una particolare attenzione alle più complesse strategie culturali\, politiche\, economiche e scientifiche che articolano la società contemporanea. Il Premio StellaRe è un anello disegnato e realizzato dall’artista Maurizio Cattelan\, un anello di fidanzamento nella sua immagine più classica\, ma in versione gigante\, di cinque centimetri di diametro\, e in edizione unica. Un brillante luminoso come la stella simbolo della Fondazione Sandretto Re Rebaudengo.
URL:https://fsrr.org/evento/premio-stellare-a-maria-manetti-shrem/
ATTACH;FMTTYPE=image/jpeg:https://fsrr.org/wp-content/uploads/maria-manetti-shrem-.jpg
END:VEVENT
BEGIN:VEVENT
DTSTART;VALUE=DATE:20240926
DTEND;VALUE=DATE:20240927
DTSTAMP:20260425T005955
CREATED:20240913T101751Z
LAST-MODIFIED:20240924T140743Z
UID:42222-1727308800-1727395199@fsrr.org
SUMMARY:CHI SEMINA VENTO
DESCRIPTION:ore 18\nBookshop  \nChi semina vento è un progetto artistico che esplora l’orto e il giardino come spazi di lavoro e apprendimento\, di esercizio dell’osservazione e dell’immaginazione\, di costruzione di relazioni.\nLa mostra presenta tracce di questo percorso\, frutto di pratiche artistiche partecipative\, e offre occasione di sperimentazione e coinvolgimento.\nChi semina vento è un progetto di Irene Pittatore\, a cura di Tea Taramino\, in collaborazione con il Dipartimento Educativo della Fondazione Sandretto Re Rebaudengo.  \nInformazioni:\nOrari: giovedì dalle 20 alle 23 e venerdì\, sabato e domenica dalle 12 alle 19\, o su appuntamento per i gruppi e le scuole.\nPer informazioni e prenotazioni sul calendario di attività collegate: dal lunedì al venerdì\, dalle 10.00 alle 18.00: 011-3797631\, il sabato e la domenica\, dalle 12.00 alle 19.00: 011-3797624\, accessibilita@fsrr.org  \nProgetto sostenuto con i fondi Otto per Mille della Chiesa Valdese. \nCon il contributo di Città di Torino\, Regione Piemonte\, Fondazione CRT.  \n 
URL:https://fsrr.org/evento/chi-semina-vento/
END:VEVENT
BEGIN:VEVENT
DTSTART;VALUE=DATE:20240927
DTEND;VALUE=DATE:20240928
DTSTAMP:20260425T005955
CREATED:20240913T102052Z
LAST-MODIFIED:20240924T140702Z
UID:42225-1727395200-1727481599@fsrr.org
SUMMARY:Ricomposizioni_lab
DESCRIPTION:ore 10 -12 e 15-17    \nLe Ricomposizioni sono fotografie di stralunati assemblaggi di ortaggi\, dedicate al tema delle relazioni difficili\, complesse e inattese. Fanno sorridere\, sono poetiche e buffe\, sono una riflessione ludica sull’imprevisto nei rapporti tra persone di orizzonti diversi. Nel laboratorio costruiremo con la tecnica del collage originali assemblaggi\, frutti imprevedibili di diversità libere e giocose.\nCi ispireremo alle Ricomposizioni di Irene Pittatore\, un progetto artistico a cura di Tea Taramino\, nell’ambito del progetto Chi semina vento.   \nInformazioni\nIl laboratorio è dedicato a Centri Diurni\, Comunità\, Associazioni\, ma è aperto anche a singoli partecipanti.\nLa partecipazione è gratuita\, la prenotazione è obbligatoria.  \nPer informazioni e iscrizioni: accessibilita@fsrr.org oppure 011 3797631. Il sabato e la domenica\, dalle 12.00 alle 19.00\, 011-3797624.  \n  \n 
URL:https://fsrr.org/evento/ricomposizioni_lab/
END:VEVENT
BEGIN:VEVENT
DTSTART;VALUE=DATE:20240929
DTEND;VALUE=DATE:20240930
DTSTAMP:20260425T005955
CREATED:20240913T102641Z
LAST-MODIFIED:20240924T140930Z
UID:42227-1727568000-1727654399@fsrr.org
SUMMARY:Orti da passeggio_lab 
DESCRIPTION:Laboratorio per famiglie\, aperto a tuttə \nore 16.30 \nUn “orto da passeggio” è un piccolo luogo in cui\, insieme a semi e germogli\, si mettono a dimora desideri\, nuove abitudini\, parole speciali di cui prendersi cura.\nCon l’argilla costruiremo un piccolo vaso simbolico\, la forma più adatta a far mettere radici e portare nel mondo la nostra idea di futuro. \nCi ispireremo agli Orti da passeggio di Irene Pittatore\, un progetto artistico a cura di Tea Taramino\, nell’ambito del progetto Chi semina vento.   \nInformazioni\nL’attività è dedicata a bambini e bambine da 4 a 12 anni\, con le loro famiglie\, ma è aperta a tuttə. \nLa partecipazione è gratuita\, la prenotazione è obbligatoria.  \nPer informazioni e iscrizioni: dip.educativo@fsrr.org oppure 011 3797631. Il sabato e la domenica\, dalle 12.00 alle 19.00\, 011-3797624.
URL:https://fsrr.org/evento/orti-da-passeggio_lab/
END:VEVENT
END:VCALENDAR