BEGIN:VCALENDAR
VERSION:2.0
PRODID:-//Fondazione Sandretto Re Rebaudengo - ECPv6.8.1//NONSGML v1.0//EN
CALSCALE:GREGORIAN
METHOD:PUBLISH
X-WR-CALNAME:Fondazione Sandretto Re Rebaudengo
X-ORIGINAL-URL:https://fsrr.org
X-WR-CALDESC:Events for Fondazione Sandretto Re Rebaudengo
REFRESH-INTERVAL;VALUE=DURATION:PT1H
X-Robots-Tag:noindex
X-PUBLISHED-TTL:PT1H
BEGIN:VTIMEZONE
TZID:Europe/Helsinki
BEGIN:DAYLIGHT
TZOFFSETFROM:+0200
TZOFFSETTO:+0300
TZNAME:EEST
DTSTART:20240331T010000
END:DAYLIGHT
BEGIN:STANDARD
TZOFFSETFROM:+0300
TZOFFSETTO:+0200
TZNAME:EET
DTSTART:20241027T010000
END:STANDARD
END:VTIMEZONE
BEGIN:VEVENT
DTSTART;TZID=Europe/Helsinki:20240601T160000
DTEND;TZID=Europe/Helsinki:20240601T173000
DTSTAMP:20260425T052408
CREATED:20240408T093817Z
LAST-MODIFIED:20240417T095712Z
UID:41229-1717257600-1717263000@fsrr.org
SUMMARY:Let’s Talk. Percorsi di visita in mostra
DESCRIPTION:ore 16 \nLe mediatrici culturali dell’arte della Fondazione propongono una serie di appuntamenti pensati per piccoli gruppi di visitatorə\, in cui è possibile visitare insieme le mostre in corso e approfondire i temi delle opere e la ricerca dellə artistə\, condividendo un’esperienza caratterizzata dal consueto approccio della mediazione culturale dell’arte.   \nPer circa un’ora e mezza lə partecipanti possono abitare in modo informale lo spazio espositivo\, partecipando a un’esperienza orientata al dialogo e allo scambio di pensieri\, punti di vista e opinioni.   \nLa partecipazione è aperta a tuttə e gratuita con il biglietto di ingresso della mostra. Si consiglia la prenotazione al numero 011-3797631\, oppure scrivendo a: biglietteria@fsrr.org con oggetto “Let’s Talk”\, indicando un numero di telefono di riferimento.  \nI Let’s Talk sono ideati e condotti in occasione delle mostre personali Je Vous Aime di Diana Anselmo\, Fly on the Wall di Danielle McKinney\, Isthmus di Mohammed Sami e What the Owl Knows di The Otolith Group.\n  \nTutti gli incontri iniziano alle ore 16.00.\nFondazione Sandretto Re Rebaudengo\, Via Modane 16\, Torino. 
URL:https://fsrr.org/evento/lets-talk-percorsi-di-visita-in-mostra-14/
ATTACH;FMTTYPE=image/jpeg:https://fsrr.org/wp-content/uploads/417581655_806651571492336_1047801033055984834_ntagliata.jpg
END:VEVENT
BEGIN:VEVENT
DTSTART;TZID=Europe/Helsinki:20240602T163000
DTEND;TZID=Europe/Helsinki:20240602T183000
DTSTAMP:20260425T052408
CREATED:20240520T125508Z
LAST-MODIFIED:20240520T125508Z
UID:41543-1717345800-1717353000@fsrr.org
SUMMARY:LET’S DANCE KIDS!
DESCRIPTION:LET’S DANCE KIDS!\nDOMENICA 2 GIUGNO 2024\, dalle 16.30 alle 18.30 \nLet’s Dance Kids! è un appuntamento con il movimento\, la danza e l’arte contemporanea aperto a tuttə: domenica 2 giugno giocheremo con il movimento del corpo produttore di segni e significati\, strumento di comunicazione e interpretazione di un linguaggio condiviso\, a cominciare dalle parole in LIS che compongono il titolo della mostra di Diana Anselmo: Je vous aime (vi voglio bene). L’emozione si trasforma in Lingua dei Segni Italiana (LIS)\, il segno in movimento nello spazio\, tanti movimenti in una coreografia collettiva!\nIl laboratorio è curato dalla Compagnia Tedacà\, che promuove l’arte performativa come strumento per mettersi in gioco\, riflettere\, divertirsi e sperimentare nuovi modi di fare arte. \nInformazioni\nDove: Fondazione Sandretto Re Rebaudengo – Via Modane\, 16 – Torino\nLaboratorio gratuito promosso nell’ambito dei progetti di accessibilità della Fondazione Sandretto Re Rebaudengo. Per partecipare al laboratorio è necessaria la prenotazione. Attività indicata dai 4 anni in su. \nPrenotazioni\nPer prenotare dal lunedì al venerdì\, dalle 10.00 alle 18.00 telefonare a 011-3797631 o scrivere a dip.educativo@fsrr.org\, mentre il sabato e la domenica\, dalle 12.00 alle 19.00 sono attivi il numero 011-3797624 e la mail biglietteria@fsrr.org.
URL:https://fsrr.org/evento/lets-dance-kids/
ATTACH;FMTTYPE=image/jpeg:https://fsrr.org/wp-content/uploads/Screenshot_20240416_104339_OneDrive.jpg
END:VEVENT
BEGIN:VEVENT
DTSTART;TZID=Europe/Helsinki:20240613T200000
DTEND;TZID=Europe/Helsinki:20240613T220000
DTSTAMP:20260425T052408
CREATED:20240527T103515Z
LAST-MODIFIED:20240527T103515Z
UID:41590-1718308800-1718316000@fsrr.org
SUMMARY:Let’s Read Guest con Gabriella Dal Lago 
DESCRIPTION:Let’s Read Guest con Gabriella Dal Lago\nGiovedì 13 giugno\, ore 20.00 – 22.00  \nTorna Let’s Read Guest con Gabriella Dal Lago: un ciclo di appuntamenti in cui romanzi\, poesie e libri diventano uno strumento per leggere e approfondire temi e pratiche delle mostre. Un’occasione per condividere pensieri\, riflessioni ed emozioni\, secondo l’approccio discorsivo della mediazione culturale dell'arte. Leggere non è un atto solitario. O almeno\, non solo: perché un libro si può leggere insieme\, si può parlarne ad alta voce\, si può dissezionare e osservare da tanti punti di vista diversi. E se il museo d’arte contemporanea è il museo dell’alta voce\, allora è in questo spazio che può trovare posto un’assemblea di corpi e voci che discutono\, si confrontano\, si interrogano su un testo.  \nLa nuova stagione di Let’s Read Guest inizia il 13 giugno\, nella mostra di Danielle McKinney Fly on the Wall. A partire dall’osservazione e dalla scoperta della pratica artistica della pittrice\, l’incontro si interrogherà sul rapporto tra ritratto e autoritratto\, sull’atto di guardare per guardarsi. Il romanzo da cui ci muoveremo sarà I dettagli di Ia Genberg\, pubblicato in Italia da Iperborea nella traduzione di Alessandra Scali. Un romanzo che è una galleria di quattro ritratti\, che verranno letti insieme ai ritratti in mostra per farci domande sul rispecchiamento\, l’autonarrazione\, l’appropriazione e la sovrascrittura. Leggeremo\, scriveremo\, disegneremo\, discuteremo.  \nL’attività è aperta a tuttə e gratuita. La prenotazione è obbligatoria inviando una mail a biglietteria@fsrr.org con oggetto “Let’s Read” e specificando un numero di telefono di riferimento\, oppure telefonando al numero 0113797631.  \nGabriella Dal Lago lavora con i libri\, la scrittura\, la comunicazione\, l’arte contemporanea\, e scrive. I suoi due romanzi\, Uto e Gesso (2022) e Estate Caldissima (2023) sono pubblicati da 66thand2nd.
URL:https://fsrr.org/evento/lets-read-guest-con-gabriella-dal-lago/
ATTACH;FMTTYPE=image/jpeg:https://fsrr.org/wp-content/uploads/DSCF9102.jpg
END:VEVENT
BEGIN:VEVENT
DTSTART;TZID=Europe/Helsinki:20240620T190000
DTEND;TZID=Europe/Helsinki:20240620T230000
DTSTAMP:20260425T052408
CREATED:20240531T133726Z
LAST-MODIFIED:20240531T160444Z
UID:41706-1718910000-1718924400@fsrr.org
SUMMARY:Binta Diaw. Il peut pleurer du ciel. Inaugurazione a Torino
DESCRIPTION:Binta Diaw. Il peut pleurer du ciel \na cura di Ilaria Bernardi \nFondazione Sandretto Re Rebaudengo \n21 giugno – 22 ottobre 2024\n\nopening: 20 giugno\, ore 19-21 \nMostra co-organizzata e co-prodotta da Fondazione Sandretto Re Rebaudengo e Associazione Genesi\, nell’ambito della terza edizione di Progetto Genesi. Arte e Diritti Umani promosso dalla medesima associazione \nIl 20 giugno 2024 alle ore 19 inaugura negli spazi della Fondazione Sandretto Re Rebaudengo Il peut pleurer du ciel\, la mostra personale di Binta Diaw (Milano\, 1995)\, curata da Ilaria Bernardi\, co-organizzata e co-prodotta da Fondazione Sandretto Re Rebaudengo e Associazione Genesi. \nIl progetto è concepito come un’immersione multisensoriale che affronta la complessa questione della migrazione e della sua storia tra due continenti: Africa ed Europa. Urgente questione politica ed economica attuale\, la migrazione è anche un tema filosofico profondo in cui si intrecciano identità\, patrimonio culturale e immaginazione. \nFin dagli inizi della sua ricerca artistica\, Binta Diaw si interessa dei movimenti dei popoli nel corso del tempo\, siano essi volontari o forzati\, ufficiali o non ufficiali. L’artista approfondisce\, in particolare\, la nozione di diaspora che connota anche il corso della sua stessa esistenza\, da italiana di nascita\, nata da genitori senegalesi in Italia. Al di là del tema delle origini e del ri-radicamento che lo spostamento fisico e simbolico di una vita umana solleva\, l'idea di diaspora è da lei sviluppata anche come il momento in cui “si cerca di essere molti esseri allo stesso tempo”; in altre parole”\, mutuando ancora le parole di Edouard Glissant “ogni diaspora è il passaggio dall'unità alla molteplicità”. Da qui l’interesse di Diaw per la lunga storia migratoria e diasporica dell'Africa\, intesa come punto di partenza\, ma anche come territorio connaturato dalla cosiddetta “vocazione africana ad andare altrove”. \nPer la tappa di Progetto Genesi alla Fondazione Sandretto Re Rebaudengo\, Binta Diaw crea un'installazione immersiva che affronta il tema della migrazione in modo non convenzionale per condurci verso il racconto della sensibilità del corpo umano migrante nei suoi legami con la natura e con la cultura che lo circonda. \nUn video\, concepito come una meditazione visiva sull’oceano e girato nel quartiere periferico di Yarakh a Dakar\, è proiettato sulla parete di fondo della sala. La telecamera si focalizza sull’acqua del mare e sulle onde che si formano al largo. Sullo sfondo appare in lontananza Lampedusa\, terra al crocevia di due continenti. Nell’acqua appare invece una massa scura\, una forma rettangolare che fluttua contro il vento e le maree. Questa forma è una stuoia di terra attraverso cui l’artista evoca la ricchezza semantica dell’espressione «questa è la mia terra»\, facendo riferimento alla terra che scegliamo per noi stessə\, oppure quella che ci viene imposta\, con particolare riferimento alla storia dell’Africa e alla sua storia coloniale. \nAl suolo\, due grandi teli in plastica rinviano al tappeto presente nel video ma al contempo all’inquinamento delle acque\, e accolgono numerose piccole sculture\, tra loro identiche\, fatte con la terra\, a evocare la riduzione occidentale a puri numeri\, considerati medesimi\, dei corpi e delle storie dei migranti che arrivano sulle coste europee. \nSpiega l’artista: “Ho girato questo video nel quartiere periferico di Yarakh a Dakar con l’intento di spostare l’attenzione sul luogo di partenza e sulla partenza stessa delle persone che decidono di partire da lì. La migrazione è ormai generalizzata in un’unica immagine: i migranti che sbarcano e che invadono. Ma non ci si chiede e non cisi sofferma a pensare da dove partono\, da che sofferenze arrivano e soprattutto in che modo hanno affrontato il viaggio. Il video è dunque una metafora del corpo che attende la sua sorte: un invito da parte dell’oceano che accoglie il corpo nelle sue acque fino a quando quello stesso corpo viene respinto. Il tappeto\, da sempre legato in alcune culture a concetti quali quello di ospitalità e spiritualità\, nel video diviene una metafora del corpo migrante\, del corpo in movimento da un luogo all’altro\, da uno stato fisico ma anche mentale\, a un altro”. \nLa mostra è accompagnata da una monografia sull’artista\, curata da Ilaria Bernardi\, edita da Silvana Editoriale e prodotta dall’Associazione Genesi. Il volume fornisce la prima ricognizione dell’intera sua ricerca attraverso una cronologia ragionata delle opere da lei realizzate fino a oggi. \nL’esposizione si svolge nell’ambito della terza edizione di Progetto Genesi. Arte e Diritti Umani\, promosso dall’Associazione Genesi dal settembre 2021. Si tratta di un progetto interdisciplinare e inclusivo\, in edizioni annuali\, a cura di Ilaria Bernardi\, che coniuga momenti espositivi e educativi di volta in volta differenti\, con l’obiettivo di fornire un’educazione permanente in tema di diritti umani. L’idea da cui origina la concezione di Progetto Genesi è che l’arte contemporanea possa assumere il ruolo di ambasciatrice dei diritti umani. Concepito come itinerante\, per radicalità di impegno\, vastità di orizzonti e ampiezza del ventaglio di iniziative che lo compongono\, rappresenta un vero e proprio unicum nel sistema dell’arte contemporanea\, non solo italiano. \nAl fine di ampliare l’attenzione sull’importante progetto espositivo di Binta Diaw negli spazi della Fondazione Re Rebaudengo\, la Fondazione ha voluto attivare un percorso di avvicinamento ad esso attraverso due diversi momenti\, entrambi curati dal curatore della Fondazione Bernardo Folini: la realizzazione di un wallpaper\, raffigurante uno dei lavori dalla serie dei Paysages Corporels\, inaugurato a Guarene il 18 giugno; e una mostra ad Alba\, al Palazzo Banca d’Alba\, inaugurata il 14 giugno e visitabile fino al 21 luglio 2024\, che presenta alcune molto note opere dell’artista già esposte in passato in importanti occasioni espositive.
URL:https://fsrr.org/evento/binta-diaw-il-peut-pleurer-du-ciel/
ATTACH;FMTTYPE=image/jpeg:https://fsrr.org/wp-content/uploads/binta-torino-1.jpg
END:VEVENT
BEGIN:VEVENT
DTSTART;TZID=Europe/Helsinki:20240623T160000
DTEND;TZID=Europe/Helsinki:20240623T173000
DTSTAMP:20260425T052408
CREATED:20240612T141156Z
LAST-MODIFIED:20240612T141156Z
UID:41766-1719158400-1719163800@fsrr.org
SUMMARY:LET’S TALK GUEST
DESCRIPTION:LET’S TALK GUEST \ncon Annalisa Cannito\nDomenica 23 giugno 2024 \ndalle 16.00 alle 17.30  \nPalazzo Re Rebaudengo / Piazza Roma 1\, Guarene (CN) \nIn occasione di Our Rivers Share a Mouth / I nostri fiumi condividono una bocca\, mostra conclusiva della 18º edizione del Young Curators Residency Programme\, a cura di Aigerim Kapar\, Andria Nyberg Forshage\, Jiayue He\, la Fondazione Sandretto Re Rebaudengo propone uno speciale appuntamento del ciclo Let’s Talk Guest\, con l’artista Annalisa Cannito.  \nL’opera Osservatorio Valle Bormida. Ecostorie di insurrezione rurale sarà il punto di partenza per un percorso di scoperta e comprensione\, oltre che un’importante occasione di confronto diretto con l’artista\, che condividerà le sue riflessioni e le caratteristiche della sua ricerca in costante evoluzione. Con questo lavoro Cannito\, in collaborazione con lə _attivistə _della Valle del Bormida\, riattiva l’archivio di uno dei primi mo¬vimenti ambientalisti rurali in Italia\, con una storia cen¬tenaria di resistenza contro l’ACNA\, una fabbrica chimica. Continuando la sua ricerca In the Belly of Fascism and Colonialism\, rilegge il passato storico\, le dinamiche econo¬miche dello sfruttamento\, portando le prove dell’intreccio tra questioni locali e globali.” \nI Let’s Talk Guest sono appuntamenti dedicati a piccoli gruppi\, in cui è possibile approfondire i temi delle mostre e la ricerca dellə artistə\, condividendo un’esperienza caratterizzata dal consueto approccio della mediazione culturale dell’arte\, in dialogo con ospiti ogni volta diversi.   \nLa partecipazione è gratuita con il biglietto mostra.  \nSi consiglia la prenotazione al numero 011-3797631 oppure scrivendo a biglietteria@fsrr.org con oggetto “Let’s Talk Guest Guarene”. 
URL:https://fsrr.org/evento/lets-talk-guest-2/
LOCATION:Palazzo Re Rebaudengo\, Guarene\, Piazza Roma 1\, Guarene (CN)\, Italia
ATTACH;FMTTYPE=image/jpeg:https://fsrr.org/wp-content/uploads/FSRR-GUARENE-Rivers-Pellicoro-Diaw-SETUP-058-scaled.jpg
END:VEVENT
BEGIN:VEVENT
DTSTART;TZID=Europe/Helsinki:20240627T200000
DTEND;TZID=Europe/Helsinki:20240627T220000
DTSTAMP:20260425T052408
CREATED:20240610T094455Z
LAST-MODIFIED:20240610T094657Z
UID:41758-1719518400-1719525600@fsrr.org
SUMMARY:Let’s Lab Guest: Spazio Matrioska
DESCRIPTION:Let’s Lab Guest: Spazio Matrioska \nGiovedì 27 giugno 2024\, dalle 20.00 alle 22.00\nFondazione Sandretto Re Rebaudengo\, Via Modane 16\, Torino  \n  \nIl laboratorio sperimentale Spazio Matrioska parte dalla teoria\, elaborata da Rohmer e Moles\, delle sette conchiglie dell’uomo\, che indaga il rapporto spaziale tra l’essere umano e il mondo che lo circonda.    \nNel corso dell’attività lə participanti saranno invitatə ad individuare e definire uno spazio personale\, tracciando a terra\, nella sala della mostra Fly on the Wall di Danielle McKinney (1981\, USA)\, il contorno del proprio corpo. Si uscirà gradualmente dal confine intimo della sagoma di ciascun corpo per delineare strade e percorsi che andranno a formare una città collettiva. Lə partecipanti sono invitatə a portare con sé un oggetto per personalizzare lo spazio condiviso della mostra.  \nIl laboratorio è condotto da Bianca Atzori (si occupa di grafica e comunicazione\, lavora con la fotografia e il collage) e Lisa Guerra (graphic designer per la mediazione culturale\, che realizza fanzine e progetta materiali editoriali)\, in collaborazione con le mediatrici culturali dell’arte della Fondazione. Spazio Matrioska è stato ideato da Bianca Atzori\, Eleonora Gramegna\, Lisa Guerra\, Stefania De Biasi del Master di Design for Children dell’Università di Bolzano durante il workshop Terra! di Claude Marzotto.     \nL’attività è gratuita e aperta a tuttə. La prenotazione è obbligatoria inviando una mail a biglietteria@fsrr.org con oggetto “Let’s Lab” e specificando un telefono di riferimento\, oppure telefonando al numero 011-3797631. 
URL:https://fsrr.org/evento/lets-lab-guest-spazio-matrioska/
ATTACH;FMTTYPE=image/jpeg:https://fsrr.org/wp-content/uploads/IMG_7745-1.jpg
END:VEVENT
BEGIN:VEVENT
DTSTART;TZID=Europe/Helsinki:20240628T170000
DTEND;TZID=Europe/Helsinki:20240628T180000
DTSTAMP:20260425T052408
CREATED:20240619T140831Z
LAST-MODIFIED:20240619T140831Z
UID:41797-1719594000-1719597600@fsrr.org
SUMMARY:Visita con esperienze tattili
DESCRIPTION:Visita con esperienze tattili\nin collaborazione con l'Accademia Albertina di Belle Arti\nVenerdì 28 giugno ore 17.00\n\nLe mostre Je Vous Aime di Diana Anselmo\, Fly on the Wall di Danielle McKinney e Isthmus di Mohammed Sami diventano accessibili a chi non vede\, grazie agli strumenti realizzati da un gruppo di studentesse dell'Accademia Albertina di Belle Arti\, guidate da professionistɜ della progettazione accessibile e da un gruppo di volontariɜ dell'Unione Ciechi di Torino.\n\nLa visita alle mostre\, a cura delle studentesse dell'Accademia\, sarà aperta a chi ha una disabilità visiva e a chiunque voglia fare un'esperienza bendandosi o accompagnando una persona che non vede. Gli strumenti progettati rimarranno fruibili nello spazio espositivo per tutta la durata delle mostre.\nIn collaborazione con Accessiway\, APRI\, UICI\, Tactile Vision Lab.\n\nLa partecipazione è gratuita\, ma è obbligatoria la prenotazione.\nPer informazioni e iscrizioni: accessibilita@fsrr.org oppure 011 3797631. Il sabato e la domenica\, dalle 12.00 alle 19.00\, 011-3797624.
URL:https://fsrr.org/evento/visita-con-esperienze-tattili-3/
ATTACH;FMTTYPE=image/jpeg:https://fsrr.org/wp-content/uploads/DSC_5332-m_bassa.jpg
END:VEVENT
BEGIN:VEVENT
DTSTART;TZID=Europe/Helsinki:20240630T160000
DTEND;TZID=Europe/Helsinki:20240630T173000
DTSTAMP:20260425T052408
CREATED:20240408T094122Z
LAST-MODIFIED:20240417T095619Z
UID:41231-1719763200-1719768600@fsrr.org
SUMMARY:Let’s Talk. Percorsi di visita in mostra
DESCRIPTION:ore 16 \nLe mediatrici culturali dell’arte della Fondazione propongono una serie di appuntamenti pensati per piccoli gruppi di visitatorə\, in cui è possibile visitare insieme le mostre in corso e approfondire i temi delle opere e la ricerca dellə artistə\, condividendo un’esperienza caratterizzata dal consueto approccio della mediazione culturale dell’arte.   \nPer circa un’ora e mezza lə partecipanti possono abitare in modo informale lo spazio espositivo\, partecipando a un’esperienza orientata al dialogo e allo scambio di pensieri\, punti di vista e opinioni.   \nLa partecipazione è aperta a tuttə e gratuita con il biglietto di ingresso della mostra. Si consiglia la prenotazione al numero 011-3797631\, oppure scrivendo a: biglietteria@fsrr.org con oggetto “Let’s Talk”\, indicando un numero di telefono di riferimento.  \nI Let’s Talk sono ideati e condotti in occasione delle mostre personali Je Vous Aime di Diana Anselmo\, Fly on the Wall di Danielle McKinney\, Isthmus di Mohammed Sami e What the Owl Knows di The Otolith Group.\nTutti gli incontri iniziano alle ore 16.00.\nFondazione Sandretto Re Rebaudengo\, Via Modane 16\, Torino. 
URL:https://fsrr.org/evento/lets-talk-percorsi-di-visita-in-mostra-15/
ATTACH;FMTTYPE=image/jpeg:https://fsrr.org/wp-content/uploads/417581655_806651571492336_1047801033055984834_ntagliata.jpg
END:VEVENT
END:VCALENDAR