BEGIN:VCALENDAR
VERSION:2.0
PRODID:-//Fondazione Sandretto Re Rebaudengo - ECPv6.8.1//NONSGML v1.0//EN
CALSCALE:GREGORIAN
METHOD:PUBLISH
X-ORIGINAL-URL:https://fsrr.org
X-WR-CALDESC:Events for Fondazione Sandretto Re Rebaudengo
REFRESH-INTERVAL;VALUE=DURATION:PT1H
X-Robots-Tag:noindex
X-PUBLISHED-TTL:PT1H
BEGIN:VTIMEZONE
TZID:Europe/Helsinki
BEGIN:DAYLIGHT
TZOFFSETFROM:+0200
TZOFFSETTO:+0300
TZNAME:EEST
DTSTART:20260329T010000
END:DAYLIGHT
BEGIN:STANDARD
TZOFFSETFROM:+0300
TZOFFSETTO:+0200
TZNAME:EET
DTSTART:20261025T010000
END:STANDARD
END:VTIMEZONE
BEGIN:VEVENT
DTSTART;TZID=Europe/Helsinki:20260425T080000
DTEND;TZID=Europe/Helsinki:20260712T190000
DTSTAMP:20260420T003752
CREATED:20260409T122926Z
LAST-MODIFIED:20260409T122926Z
UID:49271-1777104000-1783882800@fsrr.org
SUMMARY:LET'S TALK. PERCORSI DI VISITA IN MOSTRA
DESCRIPTION:Le mediatrici culturali dell’arte della Fondazione propongono una serie di appuntamenti pensati per piccoli gruppi di visitatorə\, in cui è possibile visitare insieme le mostre in corso e approfondire i temi delle opere e la ricerca dellə artistə\, condividendo un’esperienza caratterizzata dal consueto approccio della mediazione culturale dell’arte.  \nPer circa un’ora e mezza lə partecipanti possono abitare in modo informale lo spazio espositivo\, partecipando a un’esperienza orientata al dialogo e allo scambio di pensieri\, punti di vista e opinioni.  \nI Let’s Talk sono ideati e condotti dalle mediatrici culturali dell'arte\, nell’ambito delle mostre personali EXHAUST di Xin Liu\, Krapfen di Diego Marcon\, Theatre of the mind di Lenz Geerk e Danzante di June Crespo.    \nLa partecipazione è aperta a tuttə e gratuita con il biglietto di ingresso della mostra. Si consiglia la prenotazione al numero 011-3797631\, oppure scrivendo a biglietteria@fsrr.org con oggetto “Let’s Talk”\, indicando un numero di telefono di riferimento.   \nCalendario completo sabato 25 aprile\, dalle 16 alle 17.30 domenica 3 maggio\, dalle 16 alle 17.30 sabato 23 maggio\, dalle 16 alle 17.30 domenica 7 giugno\, dalle 16 alle 17.30 sabato 20 giugno\, dalle 16 alle 17.30 sabato 4 luglio\, dalle 16 alle 17.30 domenica 12 luglio\, dalle 16 alle 17.30 
URL:https://fsrr.org/evento/lets-talk-percorsi-di-visita-in-mostra-20/
ATTACH;FMTTYPE=image/jpeg:https://fsrr.org/wp-content/uploads/Still-from-The-White-Stone-2021-Xin-Liu-Digital-Video-5.1-sound-mix-or-stereo-sound-2157-《白石》2021，影片静帧，刘昕，影像，5.1-混音或立体声，21575-2-scaled.jpg
END:VEVENT
END:VCALENDAR