BEGIN:VCALENDAR
VERSION:2.0
PRODID:-//Fondazione Sandretto Re Rebaudengo - ECPv6.8.1//NONSGML v1.0//EN
CALSCALE:GREGORIAN
METHOD:PUBLISH
X-ORIGINAL-URL:https://fsrr.org
X-WR-CALDESC:Events for Fondazione Sandretto Re Rebaudengo
REFRESH-INTERVAL;VALUE=DURATION:PT1H
X-Robots-Tag:noindex
X-PUBLISHED-TTL:PT1H
BEGIN:VTIMEZONE
TZID:Europe/Helsinki
BEGIN:DAYLIGHT
TZOFFSETFROM:+0200
TZOFFSETTO:+0300
TZNAME:EEST
DTSTART:20260329T010000
END:DAYLIGHT
BEGIN:STANDARD
TZOFFSETFROM:+0300
TZOFFSETTO:+0200
TZNAME:EET
DTSTART:20261025T010000
END:STANDARD
END:VTIMEZONE
BEGIN:VEVENT
DTSTART;TZID=Europe/Helsinki:20260301T103000
DTEND;TZID=Europe/Helsinki:20260301T120000
DTSTAMP:20260419T230712
CREATED:20260127T174610Z
LAST-MODIFIED:20260129T210252Z
UID:48924-1772361000-1772366400@fsrr.org
SUMMARY:Visita con esperienze tattili alla mostra News from the Near Future al MAUTO
DESCRIPTION:Domenica 1 marzo ore 10.30  \nIl Dipartimento Educativo della Fondazione Sandretto Re Rebaudengo organizza una speciale visita con esperienze tattili alla mostra News From the Near Future nella sede del Museo Nazionale dell'Automobile (MAUTO)\, in Corso Unità d’Italia 40.  L’incontro è gratuito e aperto a tuttə\, ed è facilitato per pubblico con disabilità visiva tramite esperienze sensoriali e grazie alle tavole tattili realizzate da Tactile Vision Lab. L’evento è aperto anche a persone vedenti\, che possono partecipare bendate o accompagnando una persona che non vede.    \nLa partecipazione all’evento è gratuita\, il biglietto di ingresso della mostra segue le modalità consuete del Museo Nazionale dell'Automobile\, che si possono trovare a questa pagina: https://ticket.museoauto.com/eventi/mauto/ \nPrenotazione obbligatoria a: accessibilita@fsrr.org oppure 011 3797631. Il sabato e la domenica\, dalle 12.00 alle 19.00\, 011-3797624.  \n  \nLa visita tattile alla mostra News from The Near Future nella sede della Fondazione\, in via Modane 16\, si terrà il 12 febbraio alle ore 18.30\, con le stesse modalità di prenotazione e ingresso gratuito.
URL:https://fsrr.org/evento/visita-con-esperienze-tattili-alla-mostra-news-from-the-near-future-al-mauto/
ATTACH;FMTTYPE=image/jpeg:https://fsrr.org/wp-content/uploads/FSRR-30anni-MAUTO-Opening-ph-Perottino-121-low-1.jpg
END:VEVENT
END:VCALENDAR