BEGIN:VCALENDAR
VERSION:2.0
PRODID:-//Fondazione Sandretto Re Rebaudengo - ECPv6.8.1//NONSGML v1.0//EN
CALSCALE:GREGORIAN
METHOD:PUBLISH
X-ORIGINAL-URL:https://fsrr.org
X-WR-CALDESC:Events for Fondazione Sandretto Re Rebaudengo
REFRESH-INTERVAL;VALUE=DURATION:PT1H
X-Robots-Tag:noindex
X-PUBLISHED-TTL:PT1H
BEGIN:VTIMEZONE
TZID:Europe/Helsinki
BEGIN:DAYLIGHT
TZOFFSETFROM:+0200
TZOFFSETTO:+0300
TZNAME:EEST
DTSTART:20260329T010000
END:DAYLIGHT
BEGIN:STANDARD
TZOFFSETFROM:+0300
TZOFFSETTO:+0200
TZNAME:EET
DTSTART:20261025T010000
END:STANDARD
END:VTIMEZONE
BEGIN:VEVENT
DTSTART;TZID=Europe/Helsinki:20260221T160000
DTEND;TZID=Europe/Helsinki:20260221T180000
DTSTAMP:20260420T004116
CREATED:20260205T102843Z
LAST-MODIFIED:20260205T103234Z
UID:49020-1771689600-1771696800@fsrr.org
SUMMARY:LET’S LAB
DESCRIPTION:NEWS FROM THE NEAR FUTURE: UN’ESPERIENZA DI VISITA ALTERATA \nIn occasione del trentesimo anniversario della Fondazione Sandretto Re Rebaudengo\, nell’ambito della grande mostra collettiva News from the Near Future\, le mediatrici culturali dell’arte propongono un laboratorio in relazione a opere storiche\, recenti o mai presentate della Collezione Sandretto Re Rebaudengo. Nel corso dell’attività\, lə visitatorə potranno sperimentare una visita “alterata”: attraverso una serie di esercizi\, saranno invitatə a concentrarsi sul modo in cui normalmente osservano le opere\, per poi metterlo in discussione\, ribaltando il punto di vista e scoprendo nuovi e inconsueti modi per interagire con la mostra e i suoi contenuti.Il laboratorio è dedicato a giovani e adultə e a tuttə coloro che desiderano trascorrere un pomeriggio al museo svolgendo un’attività in gruppo\, basata sulla relazione diretta\, personale e creativa con le opere esposte. \nLa partecipazione è gratuita. I posti sono limitati e si richiede la prenotazione al numero 0113797631\, oppure scrivendo a biglietteria@fsrr.org con oggetto “Let’s Lab”\, indicando un numero di telefono di riferimento.
URL:https://fsrr.org/evento/lets-lab-3/
LOCATION:Fondazione Sandretto Re Rebaudengo\, Via Modane 16\, Torino
ATTACH;FMTTYPE=image/jpeg:https://fsrr.org/wp-content/uploads/571387248_1252260713598084_9129606362189289175_n.jpg
END:VEVENT
END:VCALENDAR