BEGIN:VCALENDAR
VERSION:2.0
PRODID:-//Fondazione Sandretto Re Rebaudengo - ECPv6.8.1//NONSGML v1.0//EN
CALSCALE:GREGORIAN
METHOD:PUBLISH
X-WR-CALNAME:Fondazione Sandretto Re Rebaudengo
X-ORIGINAL-URL:https://fsrr.org
X-WR-CALDESC:Events for Fondazione Sandretto Re Rebaudengo
REFRESH-INTERVAL;VALUE=DURATION:PT1H
X-Robots-Tag:noindex
X-PUBLISHED-TTL:PT1H
BEGIN:VTIMEZONE
TZID:Europe/Helsinki
BEGIN:DAYLIGHT
TZOFFSETFROM:+0200
TZOFFSETTO:+0300
TZNAME:EEST
DTSTART:20260329T010000
END:DAYLIGHT
BEGIN:STANDARD
TZOFFSETFROM:+0300
TZOFFSETTO:+0200
TZNAME:EET
DTSTART:20261025T010000
END:STANDARD
END:VTIMEZONE
BEGIN:VEVENT
DTSTART;TZID=Europe/Helsinki:20260207T103000
DTEND;TZID=Europe/Helsinki:20260207T170000
DTSTAMP:20260420T004003
CREATED:20260130T125124Z
LAST-MODIFIED:20260205T103109Z
UID:48997-1770460200-1770483600@fsrr.org
SUMMARY:DANCE WELL DANCERS
DESCRIPTION:DI LAVANDERIA A VAPORE ALLA FONDAZIONE SANDRETTO RE REBAUDENGO \nDance Well torna in Fondazione Sandretto Re Rebaudengo\, per abitare gli spazi della mostra News From the Near Future. Dance Well è una pratica artistica rivolta principalmente a persone con Parkinson\, ma aperta a tuttə\, che accoglierà chiunque voglia partecipare a questa festa e prendersi cura del proprio corpo in movimento insieme allə altrə.  \nLa partecipazione è gratuita.  Per informazioni e iscrizioni: accessibilita@fsrr.org  oppure progetti@lavanderiaavapore.eu\, tel. 011 3797631. Il sabato e la domenica\, dalle 12.00 alle 19.00\, 011-3797624.  \nDANCE WELL è un progetto di Lavanderia a Vapore in collaborazione con Centro per la Scena Contemporanea di Bassano del Grappa e con Associazione Italiana Giovani Parkinsoniani.
URL:https://fsrr.org/evento/dance-well-dancers-di-lavanderia-a-vapore-alla-fondazione-sandretto-re-rebaudengo/
LOCATION:Fondazione Sandretto Re Rebaudengo\, Via Modane 16\, Torino
ATTACH;FMTTYPE=image/jpeg:https://fsrr.org/wp-content/uploads/FSRR25-Opening-30Anni-Allestimenti-ph-Perottino-016low.jpg
END:VEVENT
END:VCALENDAR