BEGIN:VCALENDAR
VERSION:2.0
PRODID:-//Fondazione Sandretto Re Rebaudengo - ECPv6.8.1//NONSGML v1.0//EN
CALSCALE:GREGORIAN
METHOD:PUBLISH
X-WR-CALNAME:Fondazione Sandretto Re Rebaudengo
X-ORIGINAL-URL:https://fsrr.org
X-WR-CALDESC:Events for Fondazione Sandretto Re Rebaudengo
REFRESH-INTERVAL;VALUE=DURATION:PT1H
X-Robots-Tag:noindex
X-PUBLISHED-TTL:PT1H
BEGIN:VTIMEZONE
TZID:Europe/Helsinki
BEGIN:DAYLIGHT
TZOFFSETFROM:+0200
TZOFFSETTO:+0300
TZNAME:EEST
DTSTART:20250330T010000
END:DAYLIGHT
BEGIN:STANDARD
TZOFFSETFROM:+0300
TZOFFSETTO:+0200
TZNAME:EET
DTSTART:20251026T010000
END:STANDARD
END:VTIMEZONE
BEGIN:VEVENT
DTSTART;TZID=Europe/Helsinki:20251219T190000
DTEND;TZID=Europe/Helsinki:20251219T230000
DTSTAMP:20260420T035936
CREATED:20251205T114622Z
LAST-MODIFIED:20251205T114622Z
UID:47626-1766170800-1766185200@fsrr.org
SUMMARY:Imboscate all’arte contemporanea
DESCRIPTION:Imboscate all’arte contemporanea  \nSerata speciale di raccolta fondi a favore della Fondazione MAMRE \nUna visita guidata tra News from the Near Future e le incursioni satiriche di Arianna Porcelli Safonov \nin collaborazione con Fondazione MAMRE e Fondazione Sandretto Re Rebaudengo19 Dicembre 2025 dalle 19.00 alle 23.00 \nFondazione Sandretto Re Rebaudengo\, Via Modane 16\, Torino \nLa serata\, dedicata a sostenere la Fondazione Mamre\, vedrà protagonista Arianna Porcelli Safonov\, storyteller e autrice di satira tra le più apprezzate in Italia\, che accompagnerà i partecipanti in un percorso inedito tra le opere d’arte contemporanea della Fondazione Sandretto Re Rebaudengo. \nLa visita nasce dall’incontro tra la lettura aperta e dialogante di una mediatrice culturale d’arte della Fondazione e lo sguardo laterale di Arianna Porcelli\, che affianca al percorso ufficiale un contributo ironico e parallelo. Alcuni estratti dei suoi più divertenti monologhi diventano spunto per osservare le opere e i meccanismi dell’arte contemporanea con una sensibilità più diretta\, umana e talvolta spiazzante.\nIn questa occasione speciale\, Arianna Porcelli Safonov e la Fondazione Sandretto Re Rebaudengo mettono a disposizione della Fondazione Mamre la loro riconosciuta esperienza e competenza\, offrendo un sostegno concreto alla causa della serata. \nIl percorso si svolge all’interno della mostra News from the Near Future\, la grande collettiva organizzata per celebrare i trent’anni della Fondazione. Allestita negli spazi della Fondazione e al Museo Nazionale dell’Automobile\, la mostra riunisce circa centocinquanta opere della Collezione Sandretto Re Rebaudengo\, tracciando tre decenni di ricerca artistica e l’evoluzione dei linguaggi\, dalla pittura alla fotografia\, dalla scultura all’installazione e al video. \nAttraverso aneddoti\, osservazioni fulminanti e riflessioni argute\, Arianna porta l’attenzione sul ruolo del pubblico\, spesso percepito come “troppo normale” per decifrare il linguaggio dell’arte contemporanea\, come se la normalità fosse un limite da superare. Ne emerge un omaggio sincero all’imperfezione dell’essere umano e alla ricchezza di prospettive che ciascuno può offrire. \nLa Fondazione MAMRE vuole mostrare come il valore dell’arte possa trasformarsi in relazione\, cura e inclusione attraverso un’esperienza capace di intrecciare sguardi\, ironia\, stupore e consapevolezza.  \nL’evento è a numero chiuso. \nDonazione minima: 50€\, tutti i proventi saranno destinati alla Fondazione MAMRE \nSito web: fondazionemamre.org \nPer informazioni e prenotazioni scrivere a: mamre@fondazionemamre.org / + 39 331 1595831 \nBIO \nArianna Porcelli Safonov è romana ma per sbaglio: la famiglia di suo padre arriva in Italia nel 1917 e lì cominciano i problemi. Arianna è autrice di libri e testi umoristici per riviste\, talk\, progetti edu e monologhi teatrali che porta in tour tra Italia e Svizzera\, con più di cinquanta date all’anno. I suoi testi per il teatro li porta in scena da sola\, coi progetti stabili Fiabafobia\, Alimentire (dedicato alla bibliografia di Michael Pollan) e Gli sforzi inutili con cui la vita imita l’arte (dedicato all’arte contemporanea); scrive anche diversi inediti per prestigiosi festival culturali come il Festival della Bellezza\, con cui collabora dal 2021. Laureata in Lettere e Filosofia con indirizzo storia del costume\, ha vissuto a New York e a Madrid e ha lavorato per dieci anni nell’organizzazione di eventi internazionali fino al 2010\, quando ha deciso di lasciare la sua professione per dedicarsi alla scrittura.  \nPer Fazi Editore ha pubblicato Fottuta Campagna (2016) e Storie di Matti (2017). Ha scritto racconti inediti per il Fatto Quotidiano\, per Touring Club\, per la rivista letteraria Superlunaria e dal 2020 cura una rubrica satirica sul mensile Terranuova\, analizzando i temi legati al biologico e alla mindfulness col filtro del paradosso. Ha partecipato con talk inediti al Tedx per quattro edizioni.  \n  \n 
URL:https://fsrr.org/evento/imboscate-allarte-contemporanea/
ATTACH;FMTTYPE=image/jpeg:https://fsrr.org/wp-content/uploads/porcelli-safonov-arianna.jpg
END:VEVENT
END:VCALENDAR