BEGIN:VCALENDAR
VERSION:2.0
PRODID:-//Fondazione Sandretto Re Rebaudengo - ECPv6.8.1//NONSGML v1.0//EN
CALSCALE:GREGORIAN
METHOD:PUBLISH
X-WR-CALNAME:Fondazione Sandretto Re Rebaudengo
X-ORIGINAL-URL:https://fsrr.org
X-WR-CALDESC:Events for Fondazione Sandretto Re Rebaudengo
REFRESH-INTERVAL;VALUE=DURATION:PT1H
X-Robots-Tag:noindex
X-PUBLISHED-TTL:PT1H
BEGIN:VTIMEZONE
TZID:Europe/Helsinki
BEGIN:DAYLIGHT
TZOFFSETFROM:+0200
TZOFFSETTO:+0300
TZNAME:EEST
DTSTART:20250330T010000
END:DAYLIGHT
BEGIN:STANDARD
TZOFFSETFROM:+0300
TZOFFSETTO:+0200
TZNAME:EET
DTSTART:20251026T010000
END:STANDARD
END:VTIMEZONE
BEGIN:VEVENT
DTSTART;TZID=Europe/Helsinki:20251215T183000
DTEND;TZID=Europe/Helsinki:20251215T193000
DTSTAMP:20260420T040027
CREATED:20251203T144255Z
LAST-MODIFIED:20251203T144255Z
UID:47574-1765823400-1765827000@fsrr.org
SUMMARY:Costume Jewelry. The Collection of Patrizia Sandretto Re Rebaudengo
DESCRIPTION:Presentazione di Costume Jewelry. The Collection of Patrizia Sandretto Re Rebaudengo \nIl 15 dicembre\, alle 18.30\, la Fondazione presenta il volume Costume Jewlery. The Collection of Patrizia Sandretto Re Rebaudengo (TASCHEN).Patrizia Sandretto Re Rebaudengo dialoga con Paola Stroppiana.Ingresso libero fino ad esaurimento posti. Suggeriamo di mandare una mail a rsvp@fsrr.org.Cocktail a seguire. \nUna celebrazione della creatività\, della sperimentazione e della libertà espressiva: Costume Jewelry è il nuovo volume che ripercorre l’evoluzione della bigiotteria del XX e XXI secolo\, presentando una straordinaria selezione di circa 160 pezzi provenienti dalla collezione di Patrizia Sandretto Re Rebaudengo\, una delle più importanti collezioni private nel panorama internazionale.
URL:https://fsrr.org/evento/costume-jewelry-the-collection-of-patrizia-sandretto-re-rebaudengo/
ATTACH;FMTTYPE=image/jpeg:https://fsrr.org/wp-content/uploads/Immagine-2025-12-03-151607.jpg
END:VEVENT
BEGIN:VEVENT
DTSTART;TZID=Europe/Helsinki:20251216T100000
DTEND;TZID=Europe/Helsinki:20251216T120000
DTSTAMP:20260420T040027
CREATED:20251203T072636Z
LAST-MODIFIED:20251203T073724Z
UID:47559-1765879200-1765886400@fsrr.org
SUMMARY:ORIZZONTI PROSSIMI | NOTIZIE DAL FUTURO
DESCRIPTION:MARTEDI 16 DICEMBRE 2025 | ORE 10.00-12.00 \nNOTIZIE DAL FUTUROIl gruppo di Vie di Uscita | Arte e Movimento per Persone con Afasia - incontra quello di E-Motus / Danzare con il Parkinson e ospita altre persone per danzare insieme fra le opere di News From the Near Future\, la mostra per i 30 anni di una delle collezioni di arte contemporanea più importanti del mondo. Osservando le ombre e le luci del nostro tempo raccontate dall’arte\, immagineremo e celebreremo un futuro desiderato. Con la mediazione culturale di Annamaria Cilento\, referente per l’accessibilità del Dipartimento Educativo Fondazione Sandretto Re Rebaudengo. \nPARTECIPAZIONE GRATUITA / RICHIESTA LA PRENOTAZIONESono benvenute persone adulte\, anziane\, giovani sopra i 15 anni\, persone con disabilità\, persone che operano nella cultura e nel sociale.accessibilita@fsrr.org - tel. 011 37 97 631 \nORIZZONTI PROSSIMI | CORPI\, LUOGHI\, COMUNITÀUn’Esperienza di Danza Dedicata a Tutti i Corpi \nDanza Contemporanea di Comunità all’insegna dello scambio creativo tra persone con differenti età o esperienze e dell’incontro con il patrimonio artistico e paesaggistico. Progetto a cura di Elena Maria Olivero - artista e danzaterapeuta per “è” arte\, formazione\, cura....La fiducia nella prossimità con gli altri corpi\, l’orizzonte delle possibilità di muoversi nel mondo\, l’appropriazione poetica degli spazi comuni\, un futuro di maggior cura verso le persone e l’ambiente: Orizzonti Prossimi è un programma di incontri inclusivi e accessibili di pratica della danza\, per valorizzare l’esperienza del patrimonio culturale e naturale da parte delle comunità e l’affaccio fuori dal setting riabilitativo dei gruppi di DanzaMovimentoTerapia. Si intreccia con E-Motus / Danzare con il Parkinson\, sostenuto dai fondi Otto per Mille della Chiesa Valdese.
URL:https://fsrr.org/evento/orizzonti-prossimi-notizie-dal-futuro/
ATTACH;FMTTYPE=image/jpeg:https://fsrr.org/wp-content/uploads/FSRR25-Opening-30Anni-Allestimenti-ph-Perottino-076-1-scaled-e1764747413232.jpg
END:VEVENT
END:VCALENDAR