BEGIN:VCALENDAR
VERSION:2.0
PRODID:-//Fondazione Sandretto Re Rebaudengo - ECPv6.8.1//NONSGML v1.0//EN
CALSCALE:GREGORIAN
METHOD:PUBLISH
X-ORIGINAL-URL:https://fsrr.org
X-WR-CALDESC:Events for Fondazione Sandretto Re Rebaudengo
REFRESH-INTERVAL;VALUE=DURATION:PT1H
X-Robots-Tag:noindex
X-PUBLISHED-TTL:PT1H
BEGIN:VTIMEZONE
TZID:Europe/Helsinki
BEGIN:DAYLIGHT
TZOFFSETFROM:+0200
TZOFFSETTO:+0300
TZNAME:EEST
DTSTART:20250330T010000
END:DAYLIGHT
BEGIN:STANDARD
TZOFFSETFROM:+0300
TZOFFSETTO:+0200
TZNAME:EET
DTSTART:20251026T010000
END:STANDARD
END:VTIMEZONE
BEGIN:VEVENT
DTSTART;TZID=Europe/Helsinki:20250706T160000
DTEND;TZID=Europe/Helsinki:20250706T170000
DTSTAMP:20260424T122025
CREATED:20250628T162809Z
LAST-MODIFIED:20250628T162809Z
UID:46827-1751817600-1751821200@fsrr.org
SUMMARY:LET’S TALK: PERCORSI DI VISITA IN MOSTRA
DESCRIPTION:ore 16.00 - 17.30  Le mediatrici culturali dell’arte della Fondazione propongono una serie di appuntamenti pensati per piccoli gruppi di visitatorə\, in cui è possibile visitare insieme le mostre in corso e approfondire i temi delle opere e la ricerca dellə artistə.  \nPer circa un’ora e mezza lə partecipanti possono abitare in modo informale lo spazio espositivo\, partecipando a un’esperienza caratterizzata dal consueto approccio della mediazione culturale dell’arte orientata al dialogo e allo scambio di pensieri\, punti di vista e opinioni.      \nLa partecipazione è aperta a tuttə e gratuita con il biglietto di ingresso della mostra. Si consiglia la prenotazione al numero 0113797631\, oppure scrivendo a biglietteria@fsrr.org con oggetto “Let’s Talk”\, indicando un numero di telefono di riferimento.    \nProssimi appuntamenti: Sabato 19 luglio 2025\, 16.00 - 17.30 Domenica 21 settembre 2025\, 16.00 - 17.30 Domenica 5 ottobre 2025\, 16.00 - 17.30  \n  \n 
URL:https://fsrr.org/evento/lets-talk-percorsi-di-visita-in-mostra-19/
ATTACH;FMTTYPE=image/jpeg:https://fsrr.org/wp-content/uploads/bassa2.jpg
END:VEVENT
END:VCALENDAR