BEGIN:VCALENDAR
VERSION:2.0
PRODID:-//Fondazione Sandretto Re Rebaudengo - ECPv6.8.1//NONSGML v1.0//EN
CALSCALE:GREGORIAN
METHOD:PUBLISH
X-WR-CALNAME:Fondazione Sandretto Re Rebaudengo
X-ORIGINAL-URL:https://fsrr.org
X-WR-CALDESC:Events for Fondazione Sandretto Re Rebaudengo
REFRESH-INTERVAL;VALUE=DURATION:PT1H
X-Robots-Tag:noindex
X-PUBLISHED-TTL:PT1H
BEGIN:VTIMEZONE
TZID:Europe/Helsinki
BEGIN:DAYLIGHT
TZOFFSETFROM:+0200
TZOFFSETTO:+0300
TZNAME:EEST
DTSTART:20250330T010000
END:DAYLIGHT
BEGIN:STANDARD
TZOFFSETFROM:+0300
TZOFFSETTO:+0200
TZNAME:EET
DTSTART:20251026T010000
END:STANDARD
END:VTIMEZONE
BEGIN:VEVENT
DTSTART;TZID=Europe/Helsinki:20250529T203000
DTEND;TZID=Europe/Helsinki:20250529T223000
DTSTAMP:20260424T125657
CREATED:20250516T133456Z
LAST-MODIFIED:20250516T133541Z
UID:46567-1748550600-1748557800@fsrr.org
SUMMARY:Let’s Lab: Passaggi
DESCRIPTION:Passaggi è un laboratorio dedicato alla mostra personale dell’artista libanese Marwa Arsanios (1978). Il progetto espositivo ripercorre la serie di film Who is Afraid of Ideology? (2017 – in corso) presentando in anteprima il quinto e più recente capitolo coprodotto dalla Fondazione Sandretto Re Rebaudengo\, insieme ai quattro episodi precedenti.  \nL’attività sarà l’occasione per approfondire contenuti e linguaggi che caratterizzano la mostra The Land Shall Not Be Owned.  La forma e la funzione del film documentario diventano nella pratica dell’artista uno spazio fisico di collegamento\, conversazione e apprendimento sui temi legati alla terra\, al passaggio\, al diritto e al movimento. \nPassaggi è un laboratorio di gruppo in cui condividendo saperi e conoscenze realizzeremo una mappa collettiva fatta di parole\, immagini e segni disegnati e cuciti insieme da tuttə lə partecipantə. \nL’attività è dedicata a giovani e adultə e a tuttə coloro che desiderano trascorrere una serata al museo svolgendo un’attività basata sulla relazione diretta\, personale e creativa con le opere esposte. La partecipazione è gratuita\, si richiede la prenotazione a biglietteria@fsrr.org con oggetto “Let’s Lab” e specificando un numero di riferimento\, oppure tel. 011-3797631.
URL:https://fsrr.org/evento/lets-lab-passaggi/
ATTACH;FMTTYPE=image/jpeg:https://fsrr.org/wp-content/uploads/FSRR-30ANNI-Allestimenti-ph-Perottino-007-scaled.jpg
END:VEVENT
END:VCALENDAR