BEGIN:VCALENDAR
VERSION:2.0
PRODID:-//Fondazione Sandretto Re Rebaudengo - ECPv6.8.1//NONSGML v1.0//EN
CALSCALE:GREGORIAN
METHOD:PUBLISH
X-WR-CALNAME:Fondazione Sandretto Re Rebaudengo
X-ORIGINAL-URL:https://fsrr.org
X-WR-CALDESC:Events for Fondazione Sandretto Re Rebaudengo
REFRESH-INTERVAL;VALUE=DURATION:PT1H
X-Robots-Tag:noindex
X-PUBLISHED-TTL:PT1H
BEGIN:VTIMEZONE
TZID:Europe/Helsinki
BEGIN:DAYLIGHT
TZOFFSETFROM:+0200
TZOFFSETTO:+0300
TZNAME:EEST
DTSTART:20250330T010000
END:DAYLIGHT
BEGIN:STANDARD
TZOFFSETFROM:+0300
TZOFFSETTO:+0200
TZNAME:EET
DTSTART:20251026T010000
END:STANDARD
END:VTIMEZONE
BEGIN:VEVENT
DTSTART;VALUE=DATE:20250417
DTEND;VALUE=DATE:20250419
DTSTAMP:20260424T151559
CREATED:20250320T084210Z
LAST-MODIFIED:20250416T131515Z
UID:46282-1744891200-1744977599@fsrr.org
SUMMARY:PICCOLI CORPI BLU. PRATICHE DI MOVIMENTO E AZIONE COLLETTIVA INTORNO A PICCOLI SPIRITI BLU DI REBECCA HORN
DESCRIPTION:Il 17 aprile alle 18 si tiene il quarto incontro di Piccoli Corpi Blu\, percorso di arte e Feldenkrais condotto da Emanuele Enria. Lavoreremo intorno a Scratching Both Walls at Once\, un'opera del 1974-75 in cui Rebecca Horn indossa due lunghe protesi alle mani\, che\, mentre la allontanano dagli oggetti\, rappresentano per l’artista un’intensificazione della consapevolezza corporea.\n \nRicordiamo\, inoltre\, le prossime date:\n8 maggio / Chiesa di Santa Maria del Monte dei Cappuccini\n12 maggio / Giornata di Studi dedicata ai progetti educativi di Accademia della Luce. Accademia Albertina delle Belle Arti di Torino\n \nGli incontri sono gratuiti e aperti a tutte le persone interessate alla pratica Feldenkrais e ai temi proposti\, e saranno facilitati per persone con disabilità visiva. L'iscrizione è obbligatoria. Per informazioni e iscrizioni: t. 011-3797631  |  dip.educativo@fsrr.org \n https://fsrr.org/dip-educativi/pubblico-adulto/ https://www.lucidartistatorino.org/accademia-della-luce/2024-2025/\n \nQuesti incontri sono parte di Accademia della Luce\, il Public Program di Luci d’Artista.\n \nSegnaliamo inoltre al Castello di Rivoli Museo d’Arte Contemporanea\, Rivoli-Torino la mostra Rebecca Horn – Cutting Through the Past\, dal 22 maggio al 21 settembre 2025\, a cura di Marcella Beccaria. La mostra è in collaborazione tra Haus der Kunst\, Monaco di Baviera e Castello di Rivoli Museo d’Arte Contemporanea\, Rivoli-Torino.
URL:https://fsrr.org/evento/46282/
ATTACH;FMTTYPE=image/webp:https://fsrr.org/wp-content/uploads/Rebecca-Horn-Scratching-Both-Walls-at-Once-1974-1975-Rebecca-Horn-Collection-©2019-Rebecca-Horn-ProLitteris-Zurich.webp
END:VEVENT
END:VCALENDAR