BEGIN:VCALENDAR
VERSION:2.0
PRODID:-//Fondazione Sandretto Re Rebaudengo - ECPv6.8.1//NONSGML v1.0//EN
CALSCALE:GREGORIAN
METHOD:PUBLISH
X-WR-CALNAME:Fondazione Sandretto Re Rebaudengo
X-ORIGINAL-URL:https://fsrr.org
X-WR-CALDESC:Events for Fondazione Sandretto Re Rebaudengo
REFRESH-INTERVAL;VALUE=DURATION:PT1H
X-Robots-Tag:noindex
X-PUBLISHED-TTL:PT1H
BEGIN:VTIMEZONE
TZID:Europe/Helsinki
BEGIN:DAYLIGHT
TZOFFSETFROM:+0200
TZOFFSETTO:+0300
TZNAME:EEST
DTSTART:20250330T010000
END:DAYLIGHT
BEGIN:STANDARD
TZOFFSETFROM:+0300
TZOFFSETTO:+0200
TZNAME:EET
DTSTART:20251026T010000
END:STANDARD
END:VTIMEZONE
BEGIN:VEVENT
DTSTART;VALUE=DATE:20250413
DTEND;VALUE=DATE:20250415
DTSTAMP:20260424T151655
CREATED:20250407T111323Z
LAST-MODIFIED:20250407T111323Z
UID:46357-1744545600-1744631999@fsrr.org
SUMMARY:Let's Draw Kids! Domenica al Museo per Famiglie
DESCRIPTION:ore 16:30-18:30 \nIn occasione del weekend Disegniamo l’Arte\, promosso da Abbonamento Musei\, proponiamo una nuova edizione del Let’s Draw Kids! Un pomeriggio speciale dedicato a bambine/i e adulti per esplorare le opere in mostra\, scoprirne e disegnarne insieme le forme e i segreti.Disegni minuscoli da tenere chiusi in una mano\, disegni lunghissimi da tracciare nello spazio\, disegni di semi e foglie\, di corpi e vortici\, disegni in movimento.Fascia d’età: 4-12 anniAttività gratuita con prenotazione obbligatoria.Prenotazione: per prenotare dal lunedì al venerdì\, dalle 10.00 alle 18.00 telefonare a 011-3797631 o scrivere a dip.educativo@fsrr.org\, mentre il sabato e la domenica\, dalle 12.00 alle 19.00 sono attivi il numero 011-3797624 e la mail biglietteria@fsrr.org
URL:https://fsrr.org/evento/lets-draw-kids-domenica-al-museo-per-famiglie/
ATTACH;FMTTYPE=image/webp:https://fsrr.org/wp-content/uploads/Disegniamo-larte-2-768x768-1.webp
END:VEVENT
END:VCALENDAR