BEGIN:VCALENDAR
VERSION:2.0
PRODID:-//Fondazione Sandretto Re Rebaudengo - ECPv6.8.1//NONSGML v1.0//EN
CALSCALE:GREGORIAN
METHOD:PUBLISH
X-WR-CALNAME:Fondazione Sandretto Re Rebaudengo
X-ORIGINAL-URL:https://fsrr.org
X-WR-CALDESC:Events for Fondazione Sandretto Re Rebaudengo
REFRESH-INTERVAL;VALUE=DURATION:PT1H
X-Robots-Tag:noindex
X-PUBLISHED-TTL:PT1H
BEGIN:VTIMEZONE
TZID:Europe/Helsinki
BEGIN:DAYLIGHT
TZOFFSETFROM:+0200
TZOFFSETTO:+0300
TZNAME:EEST
DTSTART:20250330T010000
END:DAYLIGHT
BEGIN:STANDARD
TZOFFSETFROM:+0300
TZOFFSETTO:+0200
TZNAME:EET
DTSTART:20251026T010000
END:STANDARD
END:VTIMEZONE
BEGIN:VEVENT
DTSTART;VALUE=DATE:20250408
DTEND;VALUE=DATE:20250410
DTSTAMP:20260424T151600
CREATED:20250407T111041Z
LAST-MODIFIED:20250407T111041Z
UID:46351-1744113600-1744199999@fsrr.org
SUMMARY:Marwa Arsanios incontra lə studentə
DESCRIPTION:ore 10.30 \nMartedì 8 aprile il Dipartimento educativo della Fondazione organizza un incontro con Marwa Arsanios\, dedicato alle scuole secondarie di secondo grado di Torino. Un'eccezionale occasione per entrare in contatto diretto con l'artista\, la cui mostra Who's Afraid of Ideology? inaugurerà il giorno stesso. Le scuole coinvolte sono il Primo Liceo Artistico\, il Liceo Artistico Cottini\, l'Istituto Giolitti\, i Licei Classici Alfieri e Gioberti e l'Istituto Albe Steiner nel quadro dei percorsi di PCTO. L'incontro prevede una lecture di Arsanios\, seguita da una sessione di domande elaborate delle studenti. L'evento fa parte di una ormai lunga serie di momenti di scambio e dialogo con artistə\, iniziato nel 2015 con Adrian Villar Rojas e proseguito con\, tra lə altrə\, Berlinde De Bruyckere\, Mark Manders\, Ed Atkins\, Paulina Olowska\, Liam Gillick\, Hito Steyerl\, Jean-Marie Appriou\, Lawrence Abu Hamdan\, Monster Chetwynd\, Rachel Rose\, Thomas Hirschhorn\, Ragnar Kjartansson\, Goshka Macuga e Gabriel Kuri.Il percorso è realizzato nell’ambito del progetto "Idee senza parole"\, vincitore dell’Avviso pubblico “Torino\, che cultura!”\, finanziato con fondi PN METRO PLUS E CITTÀ MEDIE SUD 2021-2027 - TO7.5.1.1.B - SOSTEGNO ALL'ECONOMIA URBANA NEL SETTORE DELLA CULTURA”
URL:https://fsrr.org/evento/marwa-arsanios-incontra-l%c9%99-student%c9%99/
ATTACH;FMTTYPE=image/jpeg:https://fsrr.org/wp-content/uploads/Marwa-Arsanios-WIAOI-1-Video-still1-scaled.jpg
END:VEVENT
BEGIN:VEVENT
DTSTART;TZID=Europe/Helsinki:20250408T190000
DTEND;TZID=Europe/Helsinki:20250408T210000
DTSTAMP:20260424T151601
CREATED:20250317T135338Z
LAST-MODIFIED:20250317T135522Z
UID:46261-1744138800-1744146000@fsrr.org
SUMMARY:Inaugurazione delle mostre
DESCRIPTION:Fondazione Sandretto Re Rebaudengo\, dall'8 aprile al 12 ottobre 2025\, presenta The Land Shall Not Be Owned\, prima mostra personale in Italia di Marwa Arsanios\, Bird Dream Machine\, prima mostra personale in Italia di Teresa Solar Abboud e Evenfall\, prima personale di Jem Perucchini. Le mostre inaugurano l'8 aprile alle 19.\n \nThe Land Shall Not Be Owned (8 aprile – 12 ottobre) è la prima mostra in Italia di Marwa Arsanios. Al centro dell’esposizione c’è Who is Afraid of Ideology? (2017–in corso)\, una serie di film che indaga sfruttamento e riappropriazione della terra in Medio Oriente e Sud America. La mostra include la première internazionale del quinto capitolo\, coprodotto dalla Fondazione Sandretto Re Rebaudengo\, oltre a disegni\, ricami e sculture. Arsanios esplora l’auto-organizzazione femminile contro strutture patriarcali\, intrecciando ecologia\, femminismo e approcci decoloniali. La mostra è un progetto itinerante e la prossima tappa è prevista presso Artium\, Basque Museum-Centre of Contemporary Art\, a Vitoria-Gasteiz. A cura di Agustin Pérez Rubio e Bernardo Follini.\n \nBird Dream Machine (8 aprile – 12 ottobre) è la prima mostra in Italia di Teresa Solar Abboud. L'artista\, partita dalla sperimentazione video\, ha sviluppato una pratica scultorea che esplora forme e materiali attraverso installazioni immersive. Il suo lavoro indaga il rapporto tra materia\, linguaggio e corpo\, concentrandosi sulla morfologia e la resistenza della lingua. Negli anni\, le sue opere si sono ispirate a strutture organiche\, creando metafore visive legate a ossa e orifizi. Le installazioni\, sempre più complesse\, integrano elementi architettonici\, dissolvendo i confini tra interno ed esterno. La mostra rappresenta l’ultimo capitolo di un progetto suddiviso in tre episodi concepito in collaborazione con il Centro de Arte Dos de Mayo (CA2M) di Madrid e il Museu d’Art Contemporani de Barcelona (MACBA).\n \nEvenfall (8 aprile – 12 ottobre) è la prima mostra personale istituzionale di Jem Perucchini. Presentando dodici dipinti e un'installazione ceramica\, la mostra esplora il tema del crepuscolo\, indagando dicotomie come visibile e invisibile\, spirituale e terreno. Ispirandosi a fonti storico-artistiche che spaziano dal tardo-gotico italiano agli affreschi etiopi\, i dipinti di Evenfall alludono a figure classiche come Elagabalo e Thanatos\, offrendo una nuova interpretazione della storia. Perucchini trasforma il canone occidentale in un mistero da riscoprire\, invitando lo spettatore a riflettere su narrazione e memoria.
URL:https://fsrr.org/evento/inaugurazione-delle-mostre/
LOCATION:Fondazione Sandretto Re Rebaudengo\, Via Modane 16\, Torino
ATTACH;FMTTYPE=image/jpeg:https://fsrr.org/wp-content/uploads/mostre-aprile-sito-1-scaled.jpg
END:VEVENT
END:VCALENDAR