BEGIN:VCALENDAR
VERSION:2.0
PRODID:-//Fondazione Sandretto Re Rebaudengo - ECPv6.8.1//NONSGML v1.0//EN
CALSCALE:GREGORIAN
METHOD:PUBLISH
X-WR-CALNAME:Fondazione Sandretto Re Rebaudengo
X-ORIGINAL-URL:https://fsrr.org
X-WR-CALDESC:Events for Fondazione Sandretto Re Rebaudengo
REFRESH-INTERVAL;VALUE=DURATION:PT1H
X-Robots-Tag:noindex
X-PUBLISHED-TTL:PT1H
BEGIN:VTIMEZONE
TZID:Europe/Helsinki
BEGIN:DAYLIGHT
TZOFFSETFROM:+0200
TZOFFSETTO:+0300
TZNAME:EEST
DTSTART:20240331T010000
END:DAYLIGHT
BEGIN:STANDARD
TZOFFSETFROM:+0300
TZOFFSETTO:+0200
TZNAME:EET
DTSTART:20241027T010000
END:STANDARD
END:VTIMEZONE
BEGIN:VEVENT
DTSTART;TZID=Europe/Helsinki:20241204T140000
DTEND;TZID=Europe/Helsinki:20241204T180000
DTSTAMP:20260424T214425
CREATED:20241202T143559Z
LAST-MODIFIED:20241202T151129Z
UID:43424-1733320800-1733335200@fsrr.org
SUMMARY:Giornata di studi: Idee senza parole. Storia e mito tra Risorgimento e contemporaneità
DESCRIPTION:Giornata di studi: Idee senza parole. Storia e mito tra Risorgimento e contemporaneità 4 dicembre | h 14:00-18:00 Auditorium Fondazione Sandretto Re Rebaudengo\, Torino \nEvento organizzato da Fondazione Sandretto Re Rebaudengo e The Recovery Plan Con: Samuel Agbamu\, Camilla Hawthorne\, Edoardo Marcello Barsotti\, Tommaso Bobbio\, Valentina Bonizzi\, Leyla Degan\, Omar Gabriel Delnevo\, Alessandra Ferrini\, Bernardo Follini\, Jermay Michael Gabriel\, Hani Mincione Tabacco\, Fartun Mohamed\, Federica Morelli\, Daniela Ortiz\, Justin Randolph Thompson.  \nPer registrarsi e partecipare clicca qui  \nLa giornata di studi propone di riflettere sul periodo risorgimentale e sul suo impatto transnazionale ponendo l’attenzione sulle intersezioni tra storia e mito. Questo pomeriggio di incontri e scambi mira a favorire un dialogo interdisciplinare su un periodo storico fondativo per le nozioni di identità italiana\, ponendo l'accento sulle interpretazioni contrastanti del nazionalismo contemporaneo. A partire da vicende storiche locali\, riferimenti alla Rivoluzione haitiana\, alle guerre d'indipendenza in Sud America\, all’era della ricostruzione negli Stati Uniti e al movimento d’indipendenza indiano si intrecciano con riflessioni sulle storie coloniali italiane e il loro ruolo nella definizione dell'identità nazionale. Il forum presenterà prospettive di ricerca accademiche insieme a pratiche artistiche interessate alla ricerca tra archivio\, ricerca storica e spazio pubblico.  \n“Idee senza parole. Storia e mito tra Risorgimento e contemporaneità” è presentato nel contesto di “Memoria collettiva nello spazio pubblico”\, progetto vincitore dell'Avviso pubblico "Torino\, che cultura!"\, finanziato con i fondi PN METRO PLUS E CITTA' MEDIE SUD 2021-2027 - TO7.5.1.B. - Sostegno all'economia urbana nel settore della cultura.
URL:https://fsrr.org/evento/giornata-di-studi-idee-senza-parole-storia-e-mito-tra-risorgimento-e-contemporaneita/
ATTACH;FMTTYPE=image/jpeg:https://fsrr.org/wp-content/uploads/Post-IG_Risorgimento-scaled-e1733150253245.jpg
END:VEVENT
END:VCALENDAR