BEGIN:VCALENDAR
VERSION:2.0
PRODID:-//Fondazione Sandretto Re Rebaudengo - ECPv6.8.1//NONSGML v1.0//EN
CALSCALE:GREGORIAN
METHOD:PUBLISH
X-WR-CALNAME:Fondazione Sandretto Re Rebaudengo
X-ORIGINAL-URL:https://fsrr.org
X-WR-CALDESC:Events for Fondazione Sandretto Re Rebaudengo
REFRESH-INTERVAL;VALUE=DURATION:PT1H
X-Robots-Tag:noindex
X-PUBLISHED-TTL:PT1H
BEGIN:VTIMEZONE
TZID:Europe/Helsinki
BEGIN:DAYLIGHT
TZOFFSETFROM:+0200
TZOFFSETTO:+0300
TZNAME:EEST
DTSTART:20240331T010000
END:DAYLIGHT
BEGIN:STANDARD
TZOFFSETFROM:+0300
TZOFFSETTO:+0200
TZNAME:EET
DTSTART:20241027T010000
END:STANDARD
END:VTIMEZONE
BEGIN:VEVENT
DTSTART;TZID=Europe/Helsinki:20241201T160000
DTEND;TZID=Europe/Helsinki:20241201T173000
DTSTAMP:20260424T214458
CREATED:20241121T135741Z
LAST-MODIFIED:20241126T093610Z
UID:43177-1733068800-1733074200@fsrr.org
SUMMARY:Let’s Talk Guest con Julie Anne Stanzak e Associazione Didee
DESCRIPTION:Let’s Talk Guest con Julie Anne Stanzak e Associazione DideeDomenica 1° dicembre 202416.00 - 17.30 \nFondazione Sandretto Re Rebaudengovia Modane 16\, 10123 Torino \nIn occasione di FESTE 2024\, festival di danza contemporanea e di comunità promosso da Associazione Didee\, la Fondazione Sandretto Re Rebaudengo ospita Studio su piccoli riti\, un laboratorio di tre giorni a cura della danzatrice e coreografa Julie Stanzak\, aperto allo sguardo del pubblico\, nelle sale della mostra personale di Mark Manders Silent Studio.  \nNel contesto del Let’s Talk Guest sarà possibile assistere a piccoli riti coreografici nello spazio espositivo\, un lavoro sull’atto creativo di studi incompiuti con un gruppo di danzatorə e cittadinə che nasce come riflesso della mostra ed evoca l’immagine dello studio dell’artista come luogo di infinite e incompiute sperimentazioni. Per circa un’ora e mezza si attraverserà lo spazio espositivo insieme a una mediatrice culturale per poi fermarsi e ascoltare lə espertə\, sollecitando il dialogo e valorizzando il confronto tra lə partecipanti. \nI Let’s Talk Guest sono appuntamenti dedicati a piccoli gruppi\, in cui è possibile approfondire i temi delle mostre e la ricerca dellə artistə\, condividendo un’esperienza caratterizzata dal consueto metodo della mediazione culturale dell’arte\, in dialogo con ospiti ogni volta diversi. \nLa partecipazione è aperta a tuttə e gratuita con il biglietto di ingresso della mostra. Si richiede la prenotazione al numero 011-3797631\, oppure scrivendo a biglietteria@fsrr.org con oggetto “Let’s Talk Guest”\, indicando un numero di telefono di riferimento.  \nJulie Anne Stanzak (Charlotte\, North Carolina\, 1959) inizia come danzatrice dal 1976 nel Chicago Lyric Opera Ballet diretto da Maria Tallchief\, nel 1979 si trasferisce in Europa e fino al 1985 è nel Dutch National Ballet di Amsterdam. Nel 1986 entra a far parte del Tanztheater Wuppertal di Pina Bausch\, dove ancora oggi lavora. Julie Stanzak collabora come insegnante e coreografa con istituzioni di danza\, università e teatri in tutta Europa\, negli Stati Uniti e in Giappone tra cui Teatro la Ribalta\, Compagnie De L'Oiseau-Mouche e Accademia Arte della diversità di Bolzano. \nAssociazione Didee – arti e comunicazione\, organizzazione culturale no profit\, dal 2001 sotto la direzione di Mariachiara Raviola realizza festival ed eventi\, spettacoli e workshop con una specifica attenzione alla formazione di nuovo pubblico e alle nuove generazioni\, attraverso percorsi partecipati ed inclusivi.
URL:https://fsrr.org/evento/lets-talk-guest-con-julie-stanzak-e-associazione-didee/
ATTACH;FMTTYPE=image/jpeg:https://fsrr.org/wp-content/uploads/Alessandro-Peirone_alta-scaled.jpg
END:VEVENT
END:VCALENDAR