BEGIN:VCALENDAR
VERSION:2.0
PRODID:-//Fondazione Sandretto Re Rebaudengo - ECPv6.8.1//NONSGML v1.0//EN
CALSCALE:GREGORIAN
METHOD:PUBLISH
X-ORIGINAL-URL:https://fsrr.org
X-WR-CALDESC:Events for Fondazione Sandretto Re Rebaudengo
REFRESH-INTERVAL;VALUE=DURATION:PT1H
X-Robots-Tag:noindex
X-PUBLISHED-TTL:PT1H
BEGIN:VTIMEZONE
TZID:Europe/Helsinki
BEGIN:DAYLIGHT
TZOFFSETFROM:+0200
TZOFFSETTO:+0300
TZNAME:EEST
DTSTART:20240331T010000
END:DAYLIGHT
BEGIN:STANDARD
TZOFFSETFROM:+0300
TZOFFSETTO:+0200
TZNAME:EET
DTSTART:20241027T010000
END:STANDARD
END:VTIMEZONE
BEGIN:VEVENT
DTSTART;TZID=Europe/Helsinki:20241117T160000
DTEND;TZID=Europe/Helsinki:20241117T173000
DTSTAMP:20260424T232633
CREATED:20241107T102834Z
LAST-MODIFIED:20241107T102834Z
UID:42789-1731859200-1731864600@fsrr.org
SUMMARY:Percorsi di visita in mostra
DESCRIPTION:Percorsi di visita in mostra\n17 novembre | dalle 16 alle 17.30\nFondazione Sandretto Re Rebaudengo\, Torino \nLe mediatrici culturali dell’arte della Fondazione Sandretto Re Rebaudengo propongono una serie di appuntamenti pensati per piccoli gruppi di visitatorə\, in cui è possibile visitare insieme le mostre in corso e approfondire i temi delle opere e la ricerca dellə artistə\, condividendo un’esperienza caratterizzata dal consueto approccio dialogato della mediazione culturale dell’arte. \nL'attività del 17 novembre è dedicata alle persone con Abbonamento Musei\, ma aperta a tuttə e gratuita con biglietto mostra. Per partecipare è necessario prenotare telefonando al numero 011-3797631 oppure scrivere a biglietteria@fsrr.org con oggetto “Let’s Talk”\, indicando un numero di telefono di riferimento.
URL:https://fsrr.org/evento/percorsi-di-visita-in-mostra/
ATTACH;FMTTYPE=image/jpeg:https://fsrr.org/wp-content/uploads/Artissima24-FSSR-Preview-AP-0382-scaled.jpg
END:VEVENT
END:VCALENDAR