BEGIN:VCALENDAR
VERSION:2.0
PRODID:-//Fondazione Sandretto Re Rebaudengo - ECPv6.8.1//NONSGML v1.0//EN
CALSCALE:GREGORIAN
METHOD:PUBLISH
X-WR-CALNAME:Fondazione Sandretto Re Rebaudengo
X-ORIGINAL-URL:https://fsrr.org
X-WR-CALDESC:Events for Fondazione Sandretto Re Rebaudengo
REFRESH-INTERVAL;VALUE=DURATION:PT1H
X-Robots-Tag:noindex
X-PUBLISHED-TTL:PT1H
BEGIN:VTIMEZONE
TZID:Europe/Helsinki
BEGIN:DAYLIGHT
TZOFFSETFROM:+0200
TZOFFSETTO:+0300
TZNAME:EEST
DTSTART:20240331T010000
END:DAYLIGHT
BEGIN:STANDARD
TZOFFSETFROM:+0300
TZOFFSETTO:+0200
TZNAME:EET
DTSTART:20241027T010000
END:STANDARD
END:VTIMEZONE
BEGIN:VEVENT
DTSTART;TZID=Europe/Helsinki:20241116T100000
DTEND;TZID=Europe/Helsinki:20241116T170000
DTSTAMP:20260424T232406
CREATED:20241024T132147Z
LAST-MODIFIED:20241106T143344Z
UID:42652-1731751200-1731776400@fsrr.org
SUMMARY:E IL CORPO? | GIORNATA DI STUDI
DESCRIPTION:Riflessioni e pratiche tra scuola e museo\n16 novembre | dalle 10.00 alle 17.00\nFondazione Sandretto Re Rebaudengo \nIl Dipartimento Educativo della Fondazione Sandretto Re Rebaudengo propone una giornata di studi\, riflessioni e pratiche\, dedicata a docenti\, operatorə culturali\, ricercatorə e studentə universitariə.\nUn’occasione di scambio per rimettere al centro il corpo nei processi di apprendimento collettivo tra scuola e museo\, dove il corpo è letto come uno spazio di sperimentazione\, cura\, autodeterminazione e ricerca. \nPartecipano: \nPaola Albertetti\ndocente di lettere del Liceo Scientifico Amaldi di Orbassano \nAngelo Chiarle\ndocente del Liceo Darwin di Rivoli e formatore presso Centro Servizi Didattici di Torino \nDebora Giordi\nBTT Balletto Teatro di Torino \nSara Leghissaartista indipendente nel campo dell’arte performativa \nLuisa Napolitano\nFilieradarte \nElena Maria Olivero\nAssociazione Didee \nFrancesca Referza\ndocente di storia dell’arte del Liceo Classico Gioberti \nEdoardo Urso\nLavanderia a Vapore \nLa partecipazione è gratuita su prenotazione\, i posti sono limitati.\nPer iscriversi compilare il form: clicca qui\nAl termine della giornata di studi verrà rilasciato un attestato di partecipazione. \nMaggiori informazioni: fsrr.org/educazione \nComunicato stampa scaricabile  \nCONTATTI\nDipartimento Educativo Fondazione Sandretto Re Rebaudengo\nVia Modane 16\, 10141\, Torino\nt. 011-3797631\ndip.educativo@fsrr.org\nwww.fsrr.org/educazione \nFoto di Giorgio Perottino\nSara Leghissa\, Fake Uniforms\, 2021
URL:https://fsrr.org/evento/e-il-corpo-giornata-di-studi/
ATTACH;FMTTYPE=image/jpeg:https://fsrr.org/wp-content/uploads/sara-leghissa-1-1.jpg
END:VEVENT
END:VCALENDAR