BEGIN:VCALENDAR
VERSION:2.0
PRODID:-//Fondazione Sandretto Re Rebaudengo - ECPv6.8.1//NONSGML v1.0//EN
CALSCALE:GREGORIAN
METHOD:PUBLISH
X-WR-CALNAME:Fondazione Sandretto Re Rebaudengo
X-ORIGINAL-URL:https://fsrr.org
X-WR-CALDESC:Events for Fondazione Sandretto Re Rebaudengo
REFRESH-INTERVAL;VALUE=DURATION:PT1H
X-Robots-Tag:noindex
X-PUBLISHED-TTL:PT1H
BEGIN:VTIMEZONE
TZID:Europe/Helsinki
BEGIN:DAYLIGHT
TZOFFSETFROM:+0200
TZOFFSETTO:+0300
TZNAME:EEST
DTSTART:20240331T010000
END:DAYLIGHT
BEGIN:STANDARD
TZOFFSETFROM:+0300
TZOFFSETTO:+0200
TZNAME:EET
DTSTART:20241027T010000
END:STANDARD
END:VTIMEZONE
BEGIN:VEVENT
DTSTART;TZID=Europe/Helsinki:20241012T080000
DTEND;TZID=Europe/Helsinki:20241014T170000
DTSTAMP:20260425T004859
CREATED:20240924T141458Z
LAST-MODIFIED:20241009T163908Z
UID:42380-1728720000-1728925200@fsrr.org
SUMMARY:Urla Silenziose 
DESCRIPTION:Sabato 12 e domenica 13 ottobre\, ore 17.00\nLunedì 14 ottobre\, ore 10.30   \ninvito Urla Silenziose in LIS \nDopo l'esordio al Festival delle Colline Torinesi\, torna in scena\, in Fondazione Sandretto Re Rebaudengo\, Urla Silenziose.  \nLo spettacolo è uno spaccato sulla comunità Sorda\, dai grandi temi alla quotidianità: il riconoscimento della Lingua dei Segni come lingua madre; la costruzione di un sistema scolastico in cui esprimersi liberamente; le battaglie per il rispetto dei propri diritti fondamentali.\nLə due performer in scena sono entrambə sordə segnanti. Per la resa accessibile dello spettacolo è stata fondamentale la collaborazione con Al.Di.Qua.Artists – ALternative DIsability QUAlity Artists – prima associazione italiana di e per artisti/e dello spettacolo con disabilità.  \nDurata: 50 minuti.  \nRegia: Valentina Aicardi  \nCon: Diana Anselmo e Diana Bejan  \nProduzione: Tedacà\, con il sostegno del MIC - Ministero della Cultura e Regione Piemonte.\nIn collaborazione con: Festival delle Colline Torinesi / TPE - Teatro Piemonte Europa  \nProgetto OUT IS THE NEW IN di Tedacà\, con il sostegno di Fondazione Time2\, nell'ambito del bando Cambiamenti. \nCosti\nSabato 12 e domenica 13 ottobre: 10 euro intero\, 8 euro ridotto (Abbonamento Musei\, ENS\, Istituto dei Sordi\, Familis). Il biglietto comprende l’ingresso al museo.\nLunedì 14 ottobre - spettacolo dedicato alle scuole + visita guidata alle mostre: 6 euro.  \nInformazioni e prenotazioni:\n334-8655865 (lun.-ven. ore 15 – 18)\nbiglietteria@fertiliterreniteatro.com 
URL:https://fsrr.org/evento/urla-silenziose/
ATTACH;FMTTYPE=image/jpeg:https://fsrr.org/wp-content/uploads/04A5359-scaled.jpg
END:VEVENT
END:VCALENDAR