BEGIN:VCALENDAR
VERSION:2.0
PRODID:-//Fondazione Sandretto Re Rebaudengo - ECPv6.8.1//NONSGML v1.0//EN
CALSCALE:GREGORIAN
METHOD:PUBLISH
X-WR-CALNAME:Fondazione Sandretto Re Rebaudengo
X-ORIGINAL-URL:https://fsrr.org
X-WR-CALDESC:Events for Fondazione Sandretto Re Rebaudengo
REFRESH-INTERVAL;VALUE=DURATION:PT1H
X-Robots-Tag:noindex
X-PUBLISHED-TTL:PT1H
BEGIN:VTIMEZONE
TZID:Europe/Helsinki
BEGIN:DAYLIGHT
TZOFFSETFROM:+0200
TZOFFSETTO:+0300
TZNAME:EEST
DTSTART:20240331T010000
END:DAYLIGHT
BEGIN:STANDARD
TZOFFSETFROM:+0300
TZOFFSETTO:+0200
TZNAME:EET
DTSTART:20241027T010000
END:STANDARD
END:VTIMEZONE
BEGIN:VEVENT
DTSTART;TZID=Europe/Helsinki:20241005T160000
DTEND;TZID=Europe/Helsinki:20241005T170000
DTSTAMP:20260425T004858
CREATED:20240930T084919Z
LAST-MODIFIED:20240930T084919Z
UID:42431-1728144000-1728147600@fsrr.org
SUMMARY:LET’S TALK GUEST con Gruppo FAI Ponte tra Culture di Torino 
DESCRIPTION:Sabato 5 ottobre\nOre 16.00  \nLe mediatrici culturali dell’arte della Fondazione propongono una serie di appuntamenti pensati per piccoli gruppi di visitatorə\, in cui è possibile visitare insieme le mostre in corso e approfondire i temi delle opere e la ricerca dellə artistə\, condividendo un’esperienza caratterizzata dal consueto approccio della mediazione culturale dell’arte.  \nPer circa un’ora e mezza lə partecipanti possono abitare in modo informale lo spazio espositivo\, partecipando a un’esperienza orientata al dialogo e allo scambio di pensieri\, punti di vista e opinioni.  \nCon la modalità dei Let’s Talk Guest invitiamo ospiti espertə ad approfondire un tema proposto nelle opere in mostra. Si attraversa lo spazio espositivo insieme a una mediatrice culturale e poi ci si ferma ad ascoltare l’espertə\, sollecitando il dialogo e valorizzando il confronto tra lə partecipanti: sabato 5 ottobre il percorso si concentrerà sulla mostra di Binta Diaw\, Il Peut Pleurer du Ciel\, grazie alla presenza di Hassan Khorzom e Irina Rodriguez del gruppo FAI Ponte tra Culture di Torino. Il progetto FAI Ponte tra Culture è una proposta volta ad aumentare la partecipazione culturale dei cittadini di origine straniera e a promuovere il dialogo e il confronto tra persone di diverse provenienze.  \nLa mostra di Binta Diaw è co-organizzata e co-prodotta da Fondazione Sandretto Re Rebaudengo e Associazione Genesi\, nell’ambito della terza edizione di Progetto Genesi. Arte e Diritti Umani promosso dalla medesima associazione. \nLa partecipazione è aperta a tuttə e gratuita con il biglietto di ingresso della mostra. Si consiglia la prenotazione al numero 011-3797631\, oppure scrivendo a: biglietteria@fsrr.org con oggetto “Let’s Talk”\, indicando un numero di telefono di riferimento.      \n  \n 
URL:https://fsrr.org/evento/lets-talk-guest-con-gruppo-fai-ponte-tra-culture-di-torino/
ATTACH;FMTTYPE=image/jpeg:https://fsrr.org/wp-content/uploads/Lets-Talk-5-ottobre-e1732540666773.jpg
END:VEVENT
END:VCALENDAR