BEGIN:VCALENDAR
VERSION:2.0
PRODID:-//Fondazione Sandretto Re Rebaudengo - ECPv6.8.1//NONSGML v1.0//EN
CALSCALE:GREGORIAN
METHOD:PUBLISH
X-ORIGINAL-URL:https://fsrr.org
X-WR-CALDESC:Events for Fondazione Sandretto Re Rebaudengo
REFRESH-INTERVAL;VALUE=DURATION:PT1H
X-Robots-Tag:noindex
X-PUBLISHED-TTL:PT1H
BEGIN:VTIMEZONE
TZID:Europe/Helsinki
BEGIN:DAYLIGHT
TZOFFSETFROM:+0200
TZOFFSETTO:+0300
TZNAME:EEST
DTSTART:20240331T010000
END:DAYLIGHT
BEGIN:STANDARD
TZOFFSETFROM:+0300
TZOFFSETTO:+0200
TZNAME:EET
DTSTART:20241027T010000
END:STANDARD
END:VTIMEZONE
BEGIN:VEVENT
DTSTART;TZID=Europe/Helsinki:20240919T183000
DTEND;TZID=Europe/Helsinki:20240919T193000
DTSTAMP:20260425T023445
CREATED:20240913T084423Z
LAST-MODIFIED:20240913T094413Z
UID:42217-1726770600-1726774200@fsrr.org
SUMMARY:Premio StellaRe a Maria Manetti Shrem
DESCRIPTION:Premio StellaRe a Maria Manetti Shrem\n19 settembre | h 18.30 \nLa Fondazione Sandretto Re Rebaudengo conferisce il Premio StellaRe 2024 alla filantropa italo-americana\, Maria Manetti Shrem. Prima della cerimonia di premiazione Massimo Lapucci\, Rockefeller Philantropy Advisor – International Fellow Yale University\, farà un intervento sulla filantropia.\n \nObbligatoria la prenotazione a rsvp@fsrr.org. Posti limitati. \nIl 19 settembre le mostre saranno chiuse al pubblico. \nPremio StellaRe\nStellaRe è il nome del Premio che dal 2006 la Fondazione Sandretto Re Rebaudengo assegna a donne che\, con il loro lavoro\, il loro impegno e le loro idee\, hanno tracciato nuovi sentieri nei campi più diversi del sapere\, con una particolare attenzione alle più complesse strategie culturali\, politiche\, economiche e scientifiche che articolano la società contemporanea. Il Premio StellaRe è un anello disegnato e realizzato dall’artista Maurizio Cattelan\, un anello di fidanzamento nella sua immagine più classica\, ma in versione gigante\, di cinque centimetri di diametro\, e in edizione unica. Un brillante luminoso come la stella simbolo della Fondazione Sandretto Re Rebaudengo.
URL:https://fsrr.org/evento/premio-stellare-a-maria-manetti-shrem/
ATTACH;FMTTYPE=image/jpeg:https://fsrr.org/wp-content/uploads/maria-manetti-shrem-.jpg
END:VEVENT
END:VCALENDAR