BEGIN:VCALENDAR
VERSION:2.0
PRODID:-//Fondazione Sandretto Re Rebaudengo - ECPv6.8.1//NONSGML v1.0//EN
CALSCALE:GREGORIAN
METHOD:PUBLISH
X-WR-CALNAME:Fondazione Sandretto Re Rebaudengo
X-ORIGINAL-URL:https://fsrr.org
X-WR-CALDESC:Events for Fondazione Sandretto Re Rebaudengo
REFRESH-INTERVAL;VALUE=DURATION:PT1H
X-Robots-Tag:noindex
X-PUBLISHED-TTL:PT1H
BEGIN:VTIMEZONE
TZID:Europe/Helsinki
BEGIN:DAYLIGHT
TZOFFSETFROM:+0200
TZOFFSETTO:+0300
TZNAME:EEST
DTSTART:20240331T010000
END:DAYLIGHT
BEGIN:STANDARD
TZOFFSETFROM:+0300
TZOFFSETTO:+0200
TZNAME:EET
DTSTART:20241027T010000
END:STANDARD
END:VTIMEZONE
BEGIN:VEVENT
DTSTART;TZID=Europe/Helsinki:20240623T160000
DTEND;TZID=Europe/Helsinki:20240623T173000
DTSTAMP:20260425T065753
CREATED:20240612T141156Z
LAST-MODIFIED:20240612T141156Z
UID:41766-1719158400-1719163800@fsrr.org
SUMMARY:LET’S TALK GUEST
DESCRIPTION:LET’S TALK GUEST \ncon Annalisa Cannito\nDomenica 23 giugno 2024 \ndalle 16.00 alle 17.30  \nPalazzo Re Rebaudengo / Piazza Roma 1\, Guarene (CN) \nIn occasione di Our Rivers Share a Mouth / I nostri fiumi condividono una bocca\, mostra conclusiva della 18º edizione del Young Curators Residency Programme\, a cura di Aigerim Kapar\, Andria Nyberg Forshage\, Jiayue He\, la Fondazione Sandretto Re Rebaudengo propone uno speciale appuntamento del ciclo Let’s Talk Guest\, con l’artista Annalisa Cannito.  \nL’opera Osservatorio Valle Bormida. Ecostorie di insurrezione rurale sarà il punto di partenza per un percorso di scoperta e comprensione\, oltre che un’importante occasione di confronto diretto con l’artista\, che condividerà le sue riflessioni e le caratteristiche della sua ricerca in costante evoluzione. Con questo lavoro Cannito\, in collaborazione con lə _attivistə _della Valle del Bormida\, riattiva l’archivio di uno dei primi mo¬vimenti ambientalisti rurali in Italia\, con una storia cen¬tenaria di resistenza contro l’ACNA\, una fabbrica chimica. Continuando la sua ricerca In the Belly of Fascism and Colonialism\, rilegge il passato storico\, le dinamiche econo¬miche dello sfruttamento\, portando le prove dell’intreccio tra questioni locali e globali.” \nI Let’s Talk Guest sono appuntamenti dedicati a piccoli gruppi\, in cui è possibile approfondire i temi delle mostre e la ricerca dellə artistə\, condividendo un’esperienza caratterizzata dal consueto approccio della mediazione culturale dell’arte\, in dialogo con ospiti ogni volta diversi.   \nLa partecipazione è gratuita con il biglietto mostra.  \nSi consiglia la prenotazione al numero 011-3797631 oppure scrivendo a biglietteria@fsrr.org con oggetto “Let’s Talk Guest Guarene”. 
URL:https://fsrr.org/evento/lets-talk-guest-2/
LOCATION:Palazzo Re Rebaudengo\, Guarene\, Piazza Roma 1\, Guarene (CN)\, Italia
ATTACH;FMTTYPE=image/jpeg:https://fsrr.org/wp-content/uploads/FSRR-GUARENE-Rivers-Pellicoro-Diaw-SETUP-058-scaled.jpg
END:VEVENT
END:VCALENDAR