BEGIN:VCALENDAR
VERSION:2.0
PRODID:-//Fondazione Sandretto Re Rebaudengo - ECPv6.8.1//NONSGML v1.0//EN
CALSCALE:GREGORIAN
METHOD:PUBLISH
X-WR-CALNAME:Fondazione Sandretto Re Rebaudengo
X-ORIGINAL-URL:https://fsrr.org
X-WR-CALDESC:Events for Fondazione Sandretto Re Rebaudengo
REFRESH-INTERVAL;VALUE=DURATION:PT1H
X-Robots-Tag:noindex
X-PUBLISHED-TTL:PT1H
BEGIN:VTIMEZONE
TZID:Europe/Helsinki
BEGIN:DAYLIGHT
TZOFFSETFROM:+0200
TZOFFSETTO:+0300
TZNAME:EEST
DTSTART:20240331T010000
END:DAYLIGHT
BEGIN:STANDARD
TZOFFSETFROM:+0300
TZOFFSETTO:+0200
TZNAME:EET
DTSTART:20241027T010000
END:STANDARD
END:VTIMEZONE
BEGIN:VEVENT
DTSTART;TZID=Europe/Helsinki:20240602T163000
DTEND;TZID=Europe/Helsinki:20240602T183000
DTSTAMP:20260425T065835
CREATED:20240520T125508Z
LAST-MODIFIED:20240520T125508Z
UID:41543-1717345800-1717353000@fsrr.org
SUMMARY:LET’S DANCE KIDS!
DESCRIPTION:LET’S DANCE KIDS!\nDOMENICA 2 GIUGNO 2024\, dalle 16.30 alle 18.30 \nLet’s Dance Kids! è un appuntamento con il movimento\, la danza e l’arte contemporanea aperto a tuttə: domenica 2 giugno giocheremo con il movimento del corpo produttore di segni e significati\, strumento di comunicazione e interpretazione di un linguaggio condiviso\, a cominciare dalle parole in LIS che compongono il titolo della mostra di Diana Anselmo: Je vous aime (vi voglio bene). L’emozione si trasforma in Lingua dei Segni Italiana (LIS)\, il segno in movimento nello spazio\, tanti movimenti in una coreografia collettiva!\nIl laboratorio è curato dalla Compagnia Tedacà\, che promuove l’arte performativa come strumento per mettersi in gioco\, riflettere\, divertirsi e sperimentare nuovi modi di fare arte. \nInformazioni\nDove: Fondazione Sandretto Re Rebaudengo – Via Modane\, 16 – Torino\nLaboratorio gratuito promosso nell’ambito dei progetti di accessibilità della Fondazione Sandretto Re Rebaudengo. Per partecipare al laboratorio è necessaria la prenotazione. Attività indicata dai 4 anni in su. \nPrenotazioni\nPer prenotare dal lunedì al venerdì\, dalle 10.00 alle 18.00 telefonare a 011-3797631 o scrivere a dip.educativo@fsrr.org\, mentre il sabato e la domenica\, dalle 12.00 alle 19.00 sono attivi il numero 011-3797624 e la mail biglietteria@fsrr.org.
URL:https://fsrr.org/evento/lets-dance-kids/
ATTACH;FMTTYPE=image/jpeg:https://fsrr.org/wp-content/uploads/Screenshot_20240416_104339_OneDrive.jpg
END:VEVENT
END:VCALENDAR