BEGIN:VCALENDAR
VERSION:2.0
PRODID:-//Fondazione Sandretto Re Rebaudengo - ECPv6.8.1//NONSGML v1.0//EN
CALSCALE:GREGORIAN
METHOD:PUBLISH
X-WR-CALNAME:Fondazione Sandretto Re Rebaudengo
X-ORIGINAL-URL:https://fsrr.org/en/
X-WR-CALDESC:Events for Fondazione Sandretto Re Rebaudengo
REFRESH-INTERVAL;VALUE=DURATION:PT1H
X-Robots-Tag:noindex
X-PUBLISHED-TTL:PT1H
BEGIN:VTIMEZONE
TZID:Europe/Helsinki
BEGIN:DAYLIGHT
TZOFFSETFROM:+0200
TZOFFSETTO:+0300
TZNAME:EEST
DTSTART:20250330T010000
END:DAYLIGHT
BEGIN:STANDARD
TZOFFSETFROM:+0300
TZOFFSETTO:+0200
TZNAME:EET
DTSTART:20251026T010000
END:STANDARD
END:VTIMEZONE
BEGIN:VEVENT
DTSTART;TZID=Europe/Helsinki:20251028T183000
DTEND;TZID=Europe/Helsinki:20251028T203000
DTSTAMP:20260420T062531
CREATED:20251010T122053Z
LAST-MODIFIED:20251010T122053Z
UID:47303-1761676200-1761683400@fsrr.org
SUMMARY:Opening News from the Near Future. 30 Years of the Fondazione Sandretto Re Rebaudengo
DESCRIPTION:News from the Near Future. 30 Years of the Fondazione Sandretto Re Rebaudengo \nOpeningOctober 28 6:30 PM — Fondazione Sandretto Re RebaudengoOctober 29\, 6:30 PM — Museo Nazionale dell'Automobile \nOn the occasion of its thirtieth anniversary\, the Fondazione Sandretto Re Rebaudengo presents News from the Near Future\, a celebration of thirty years of art\, research\, and vision. \nStaged across two venues — the Fondazione and the Museo Nazionale dell'Automobile — the exhibition brings together more than one hundred works from the Sandretto Re Rebaudengo Collection\, featuring artists such as Doug Aitken\, Maurizio Cattelan\, Steve McQueen\, Cindy Sherman\, Wolfgang Tillmans\, Urs Fischer\, Berlinde De Bruyckere\, Paulina Olowska\, Glenn Brown\, and many others. \nA journey that is not chronological but emotional and conceptual\, intertwining thirty years of exhibition history while reflecting on the challenges of the present and visions of the future.
URL:https://fsrr.org/en/evento/opening-news-from-the-near-future-30-years-of-the-fondazione-sandretto-re-rebaudengo/
ATTACH;FMTTYPE=image/jpeg:https://fsrr.org/wp-content/uploads/Immagine-2025-10-10-141457.jpg
END:VEVENT
END:VCALENDAR