BEGIN:VCALENDAR
VERSION:2.0
PRODID:-//Fondazione Sandretto Re Rebaudengo - ECPv6.8.1//NONSGML v1.0//EN
CALSCALE:GREGORIAN
METHOD:PUBLISH
X-ORIGINAL-URL:https://fsrr.org/en/
X-WR-CALDESC:Events for Fondazione Sandretto Re Rebaudengo
REFRESH-INTERVAL;VALUE=DURATION:PT1H
X-Robots-Tag:noindex
X-PUBLISHED-TTL:PT1H
BEGIN:VTIMEZONE
TZID:Europe/Rome
BEGIN:DAYLIGHT
TZOFFSETFROM:+0100
TZOFFSETTO:+0200
TZNAME:CEST
DTSTART:20170326T010000
END:DAYLIGHT
BEGIN:STANDARD
TZOFFSETFROM:+0200
TZOFFSETTO:+0100
TZNAME:CET
DTSTART:20171029T010000
END:STANDARD
END:VTIMEZONE
BEGIN:VEVENT
DTSTART;TZID=Europe/Rome:20170921T190000
DTEND;TZID=Europe/Rome:20170921T210000
DTSTAMP:20260420T004115
CREATED:20170719T075414Z
LAST-MODIFIED:20170719T075844Z
UID:24461-1506020400-1506027600@fsrr.org
SUMMARY:The Institute of Things to Come - Hervé & Maillet
DESCRIPTION:On Thursday 21 September 2017 Fondazione Sandretto Re Rebaudengo will open the fourth and last chapter of The Institute of Things to Come\, a temporary research centre on futurological scenarios which includes a series of four solo exhibitions and a program of workshops.\nThe duo Louise Hervé & Chloé Maillet will present The Waterway\, a film that combines marine archaeology\, thalassotherapy\, forgotten civilizations\, immortality and post-humanity\, offering a contemporary and poetic view on a history of aquatic fantasy.\nThe artists will also lead a workshop inspired by Jacques Tourneur film The City In The Sea\, exploring underwater archaeology and fantasy of eternal subaquatic life confronted to the reality of the conflicts between human and non-human in the Mediterranean.
URL:https://fsrr.org/en/evento/the-institute-of-things-to-come-herve-maillet/
ATTACH;FMTTYPE=image/jpeg:https://fsrr.org/wp-content/uploads/itc.jpg
END:VEVENT
BEGIN:VEVENT
DTSTART;TZID=Europe/Rome:20170921T190000
DTEND;TZID=Europe/Rome:20170921T210000
DTSTAMP:20260420T004115
CREATED:20170719T081451Z
LAST-MODIFIED:20170721T120533Z
UID:24467-1506020400-1506027600@fsrr.org
SUMMARY:Ghita Skali
DESCRIPTION:On September 21th Fondazione Sandretto Re Rebaudengo will open the first solo show in Italy of Ghita Skali (Casablanca\, 1992)\, curated by Lorenzo Balbi. The exhibition is the result of a six-years-long collaboration with ENSBA Lyon - École Nationale Supérieure des Beaux Artes.\nStarting from the observation of a new subtropical landscape tipology\, Ghita Skali's research is focused on the aesthetic and social implications of artificial date palms\, recently employed in the urban context. The plants are designed thanks to advanced technological and eingeneering studies and today they constitue the most modern camouflage system of telecommunications. At the same time\, the palms become a paradigm of contemporary strategies aimed at integrating the natural and the built landscape.
URL:https://fsrr.org/en/evento/ghita-skali/
ATTACH;FMTTYPE=image/jpeg:https://fsrr.org/wp-content/uploads/unnamed.jpg
END:VEVENT
END:VCALENDAR